BEGIN:VCALENDAR
PRODID:-//AT Content Types//AT Event//EN
VERSION:2.0
METHOD:PUBLISH
BEGIN:VEVENT
DTSTAMP:20260421T133630Z
CREATED:20111216T153540Z
UID:ATEvent-6c6136bd6afc7676563c00e1172f30f1
LAST-MODIFIED:20111216T153540Z
SUMMARY:HEP-QFT
DTSTART:20120306T100000Z
DTEND:20120306T113000Z
LOCATION:Lecture Room Euler
URL:https://diploma-clear.ictp.it/courses/weekly-schedule/lecture-room-euler/lecture.2011-12-16.7403965203
CLASS:PUBLIC
END:VEVENT
END:VCALENDAR
