BEGIN:VCALENDAR
PRODID:-//AT Content Types//AT Event//EN
VERSION:1.0
BEGIN:VEVENT
DTSTART:20120502T070000Z
DTEND:20120502T083000Z
DCREATED:20111216T154043Z
UID:ATEvent-363bfd3abd8f21414bbee727fcbc25ae
SEQUENCE:0
LAST-MODIFIED:20111216T154043Z
SUMMARY:HEP-SFT
LOCATION:Lecture Room Euler
PRIORITY:3
TRANSP:0
END:VEVENT
END:VCALENDAR
