BEGIN:VCALENDAR
PRODID:-//AT Content Types//AT Event//EN
VERSION:2.0
METHOD:PUBLISH
BEGIN:VEVENT
DTSTAMP:20260420T232502Z
CREATED:20111216T154040Z
UID:ATEvent-bfef7dbffd109fd8931455039eaeceb4
LAST-MODIFIED:20111216T154040Z
SUMMARY:HEP-SFT
DTSTART:20120417T070000Z
DTEND:20120417T083000Z
LOCATION:Lecture Room Euler
CONTACT:M. Bertolini
URL:https://diploma-clear.ictp.it/courses/weekly-schedule/lecture-room-euler/lecture.2011-12-16.0405242564
CLASS:PUBLIC
END:VEVENT
END:VCALENDAR
