BEGIN:VCALENDAR
PRODID:-//AT Content Types//AT Event//EN
VERSION:1.0
BEGIN:VEVENT
DTSTART:20081003T120000Z
DTEND:20081003T133000Z
DCREATED:20081014T095004Z
UID:ATEvent-8d9a38d7cefcac265442b3597d512a2b
SEQUENCE:0
LAST-MODIFIED:20081014T095005Z
SUMMARY:HEP-RQM
LOCATION:Lecture Room Euler
PRIORITY:3
TRANSP:0
END:VEVENT
END:VCALENDAR
