BEGIN:VCALENDAR
PRODID:-//AT Content Types//AT Event//EN
VERSION:2.0
METHOD:PUBLISH
BEGIN:VEVENT
DTSTAMP:20260420T082132Z
CREATED:20081014T095000Z
UID:ATEvent-ff6bffaf7768fc58f3f7aa38817acb83
LAST-MODIFIED:20081014T095000Z
SUMMARY:HEP-RQM
DTSTART:20080915T120000Z
DTEND:20080915T133000Z
LOCATION:Lecture Room Euler
CONTACT:Edi Gava
URL:https://diploma-clear.ictp.it/courses/weekly-schedule/lecture-room-euler/lecture.2008-10-14.8003731610
CLASS:PUBLIC
END:VEVENT
END:VCALENDAR
