BEGIN:VCALENDAR
PRODID:-//AT Content Types//AT Event//EN
VERSION:1.0
BEGIN:VEVENT
DTSTART:20080908T120000Z
DTEND:20080908T133000Z
DCREATED:20081014T094958Z
UID:ATEvent-42ada9a04ee2e9c98e4873f18ebfd775
SEQUENCE:0
LAST-MODIFIED:20081014T094958Z
SUMMARY:HEP-RQM
LOCATION:Lecture Room Euler
PRIORITY:3
TRANSP:0
END:VEVENT
END:VCALENDAR
