BEGIN:VCALENDAR
PRODID:-//AT Content Types//AT Event//EN
VERSION:2.0
METHOD:PUBLISH
BEGIN:VEVENT
DTSTAMP:20260423T020453Z
CREATED:20081008T092243Z
UID:ATEvent-9bc45657da4a4ae0c79fe115551b6814
LAST-MODIFIED:20081008T092243Z
SUMMARY:HEP-LL
DTSTART:20081121T100000Z
DTEND:20081121T113000Z
LOCATION:Lecture Room Euler
CONTACT:Bobby Acharya
URL:https://diploma-clear.ictp.it/courses/weekly-schedule/lecture-room-euler/lecture.2008-10-08.7633235852
CLASS:PUBLIC
END:VEVENT
END:VCALENDAR
