BEGIN:VCALENDAR
PRODID:-//AT Content Types//AT Event//EN
VERSION:1.0
BEGIN:VEVENT
DTSTART:20081105T100000Z
DTEND:20081105T113000Z
DCREATED:20081008T092240Z
UID:ATEvent-c8cba793481b211816ad8f3f521399d6
SEQUENCE:0
LAST-MODIFIED:20081008T092241Z
SUMMARY:HEP-LL
LOCATION:Lecture Room Euler
PRIORITY:3
TRANSP:0
END:VEVENT
END:VCALENDAR
