BEGIN:VCALENDAR
PRODID:-//AT Content Types//AT Event//EN
VERSION:1.0
BEGIN:VEVENT
DTSTART:20081008T090000Z
DTEND:20081008T103000Z
DCREATED:20081008T092237Z
UID:ATEvent-e7555181721f1c616736d509b6679e59
SEQUENCE:0
LAST-MODIFIED:20081008T092237Z
SUMMARY:HEP-LL
LOCATION:Lecture Room Euler
PRIORITY:3
TRANSP:0
END:VEVENT
END:VCALENDAR
