BEGIN:VCALENDAR
PRODID:-//AT Content Types//AT Event//EN
VERSION:2.0
METHOD:PUBLISH
BEGIN:VEVENT
DTSTAMP:20260422T194245Z
CREATED:20081008T092235Z
UID:ATEvent-1518744dc19c0cdeb34cc270b844630f
LAST-MODIFIED:20081008T092235Z
SUMMARY:HEP-LL
DTSTART:20080926T090000Z
DTEND:20080926T103000Z
LOCATION:Lecture Room Euler
CONTACT:Bobby Acharya
URL:https://diploma-clear.ictp.it/courses/weekly-schedule/lecture-room-euler/lecture.2008-10-08.7555743941
CLASS:PUBLIC
END:VEVENT
END:VCALENDAR
