BEGIN:VCALENDAR
PRODID:-//AT Content Types//AT Event//EN
VERSION:2.0
METHOD:PUBLISH
BEGIN:VEVENT
DTSTAMP:20260420T191500Z
CREATED:20081008T092843Z
UID:ATEvent-ea0dc7e695f841010e33b88d2c209f49
LAST-MODIFIED:20081008T092843Z
SUMMARY:CMP-SB
DTSTART:20081111T080000Z
DTEND:20081111T093000Z
LOCATION:Lecture Room Euler
CONTACT:Sandro Scandolo
URL:https://diploma-clear.ictp.it/courses/weekly-schedule/lecture-room-euler/lecture.2008-10-08.1231830658
CLASS:PUBLIC
END:VEVENT
END:VCALENDAR
