BEGIN:VCALENDAR
PRODID:-//AT Content Types//AT Event//EN
VERSION:2.0
METHOD:PUBLISH
BEGIN:VEVENT
DTSTAMP:20260423T035234Z
CREATED:20081008T092834Z
UID:ATEvent-b731660c26140d8e980408f81941467a
LAST-MODIFIED:20081008T092835Z
SUMMARY:CMP-SB
DTSTART:20081002T070000Z
DTEND:20081002T083000Z
LOCATION:Lecture Room Euler
CONTACT:Sandro Scandolo
URL:https://diploma-clear.ictp.it/courses/weekly-schedule/lecture-room-euler/lecture.2008-10-08.1146214969
CLASS:PUBLIC
END:VEVENT
END:VCALENDAR
