BEGIN:VCALENDAR
PRODID:-//AT Content Types//AT Event//EN
VERSION:2.0
METHOD:PUBLISH
BEGIN:VEVENT
DTSTAMP:20260423T020456Z
CREATED:20081103T151246Z
UID:ATEvent-31d2381de9db7d73b4f773a58bc0f852
LAST-MODIFIED:20081103T151603Z
SUMMARY:HEP-PP tut.
DTSTART:20081112T080000Z
DTEND:20081112T093000Z
LOCATION:Lecture Room Euler
CONTACT:Enkhbat Tsedenbaljir
URL:https://diploma-clear.ictp.it/courses/weekly-schedule/lecture-room-euler/lecture-in-lecture-room-b
CLASS:PUBLIC
END:VEVENT
END:VCALENDAR
