BEGIN:VCALENDAR
PRODID:-//AT Content Types//AT Event//EN
VERSION:2.0
METHOD:PUBLISH
BEGIN:VEVENT
DTSTAMP:20260421T215939Z
CREATED:20120330T085649Z
UID:ATEvent-4c1cd16bc89f518bffcd4eb75083c065
LAST-MODIFIED:20120330T085721Z
SUMMARY:(Labour Day)
DTSTART:20120501T120000Z
DTEND:20120501T133000Z
LOCATION:Lecture Room Euler
URL:https://diploma-clear.ictp.it/courses/weekly-schedule/lecture-room-euler/labour-day-2
CLASS:PUBLIC
END:VEVENT
END:VCALENDAR
