BEGIN:VCALENDAR
PRODID:-//AT Content Types//AT Event//EN
VERSION:2.0
METHOD:PUBLISH
BEGIN:VEVENT
DTSTAMP:20260426T000614Z
CREATED:20100826T121405Z
UID:ATEvent-9e230dd28a1d3859b6103723fe9b81a9
LAST-MODIFIED:20100826T123606Z
SUMMARY:Italian Lectures
DTSTART:20100907T153000Z
DTEND:20100907T170000Z
LOCATION:Lecture Room Euler
CONTACT:A. De Marchi
URL:https://diploma-clear.ictp.it/courses/weekly-schedule/lecture-room-euler/italian-lecture
CLASS:PUBLIC
END:VEVENT
END:VCALENDAR
