BEGIN:VCALENDAR
PRODID:-//AT Content Types//AT Event//EN
VERSION:1.0
BEGIN:VEVENT
DTSTART:20100430T120000Z
DTEND:20100430T133000Z
DCREATED:20100302T144214Z
UID:ATEvent-358191ad0a75ae56fc8b913f79433d38
SEQUENCE:0
LAST-MODIFIED:20100302T144326Z
SUMMARY:(in lieu of
LOCATION:Lecture Room Euler
PRIORITY:3
TRANSP:0
END:VEVENT
END:VCALENDAR
