BEGIN:VCALENDAR
PRODID:-//AT Content Types//AT Event//EN
VERSION:2.0
METHOD:PUBLISH
BEGIN:VEVENT
DTSTAMP:20260425T200900Z
CREATED:20160427T094927Z
UID:ATEvent-c65e5a70e5d84f72ad34362a68564c13
LAST-MODIFIED:20160427T094945Z
SUMMARY:(in lieu of
DTSTART:20160502T120000Z
DTEND:20160502T133000Z
LOCATION:Lecture Room Euler
URL:https://diploma-clear.ictp.it/courses/weekly-schedule/lecture-room-euler/in-lieu-of-4
CLASS:PUBLIC
END:VEVENT
END:VCALENDAR
