BEGIN:VCALENDAR
PRODID:-//AT Content Types//AT Event//EN
VERSION:1.0
BEGIN:VEVENT
DTSTART:20201102T100000Z
DTEND:20201102T113000Z
DCREATED:20201020T111509Z
UID:ATEvent-a40cb94f44a4416db00d0499c69522f3
SEQUENCE:0
LAST-MODIFIED:20201020T111528Z
SUMMARY:ICTP
LOCATION:Lecture Room Euler
PRIORITY:3
TRANSP:0
END:VEVENT
END:VCALENDAR
