BEGIN:VCALENDAR
PRODID:-//ICTPDiploma//ATRoom//EN
VERSION:2.0
METHOD:PUBLISH
BEGIN:VEVENT
DTSTAMP:20260423T225520Z
CREATED:20161114T100831Z
UID:ATEvent-83e718324cc24a53897747a12ee7303f
LAST-MODIFIED:20161114T100831Z
SUMMARY:HEP-PP tut.
DTSTART:20161207T100000Z
DTEND:20161207T113000Z
LOCATION:Lecture Room Euler
CONTACT:A. Azatov
URL:https://diploma-clear.ictp.it/courses/weekly-schedule/lecture-room-euler/lecture.2016-11-14.1117944625
CLASS:PUBLIC
END:VEVENT
BEGIN:VEVENT
DTSTAMP:20260423T225520Z
CREATED:20160803T115112Z
UID:ATEvent-c745726c49c74971bc68782e89904a1f
LAST-MODIFIED:20160803T115112Z
SUMMARY:HEP-PP
DTSTART:20161208T100000Z
DTEND:20161208T113000Z
LOCATION:Lecture Room Euler
CONTACT:A. Smirnov
URL:https://diploma-clear.ictp.it/courses/weekly-schedule/lecture-room-euler/lecture.2016-08-03.0722281279
CLASS:PUBLIC
END:VEVENT
BEGIN:VEVENT
DTSTAMP:20260423T225520Z
CREATED:20160803T115112Z
UID:ATEvent-34a63f7fed594321a2eeea90bb6de9c1
LAST-MODIFIED:20160803T115112Z
SUMMARY:HEP-PP
DTSTART:20161209T100000Z
DTEND:20161209T113000Z
LOCATION:Lecture Room Euler
CONTACT:A. Smirnov
URL:https://diploma-clear.ictp.it/courses/weekly-schedule/lecture-room-euler/lecture.2016-08-03.0726955024
CLASS:PUBLIC
END:VEVENT
BEGIN:VEVENT
DTSTAMP:20260423T225520Z
CREATED:20160803T114437Z
UID:ATEvent-90382fe4846644c7a1a8fd76cedbb49e
LAST-MODIFIED:20160803T114438Z
SUMMARY:HEP-QED
DTSTART:20161205T130000Z
DTEND:20161205T143000Z
LOCATION:Lecture Room Euler
CONTACT:G. Villadoro
URL:https://diploma-clear.ictp.it/courses/weekly-schedule/lecture-room-euler/lecture.2016-08-03.6779614919
CLASS:PUBLIC
END:VEVENT
BEGIN:VEVENT
DTSTAMP:20260423T225520Z
CREATED:20160803T114438Z
UID:ATEvent-49be8d618e6c4b82a0cfe421c89d7c12
LAST-MODIFIED:20160803T114438Z
SUMMARY:HEP-QED
DTSTART:20161206T130000Z
DTEND:20161206T143000Z
LOCATION:Lecture Room Euler
CONTACT:G. Villadoro
URL:https://diploma-clear.ictp.it/courses/weekly-schedule/lecture-room-euler/lecture.2016-08-03.6781046046
CLASS:PUBLIC
END:VEVENT
BEGIN:VEVENT
DTSTAMP:20260423T225520Z
CREATED:20160803T114438Z
UID:ATEvent-12ab40a6999748d9a79212704ab4273d
LAST-MODIFIED:20160803T114438Z
SUMMARY:HEP-QED
DTSTART:20161207T130000Z
DTEND:20161207T143000Z
LOCATION:Lecture Room Euler
CONTACT:G. Villadoro
URL:https://diploma-clear.ictp.it/courses/weekly-schedule/lecture-room-euler/lecture.2016-08-03.6782729318
CLASS:PUBLIC
END:VEVENT
BEGIN:VEVENT
DTSTAMP:20260423T225520Z
CREATED:20160803T114438Z
UID:ATEvent-dfe42f4276c348d9b1cd21bd7f8c2ca4
LAST-MODIFIED:20160803T114438Z
SUMMARY:HEP-QED
DTSTART:20161208T130000Z
DTEND:20161208T143000Z
LOCATION:Lecture Room Euler
CONTACT:G. Villadoro
URL:https://diploma-clear.ictp.it/courses/weekly-schedule/lecture-room-euler/lecture.2016-08-03.6784222662
CLASS:PUBLIC
END:VEVENT
BEGIN:VEVENT
DTSTAMP:20260423T225520Z
CREATED:20160901T141211Z
UID:ATEvent-4aa96d7322af4d048b20b488507ee1d9
LAST-MODIFIED:20161110T085121Z
SUMMARY:HEP-QED tut.
DTSTART:20161209T130000Z
DTEND:20161209T143000Z
LOCATION:Lecture Room Euler
CONTACT:L. Alberte
URL:https://diploma-clear.ictp.it/courses/weekly-schedule/lecture-room-euler/lecture.2016-09-01.1313112117
CLASS:PUBLIC
END:VEVENT
END:VCALENDAR
