BEGIN:VCALENDAR
PRODID:-//ICTPDiploma//ATRoom//EN
VERSION:2.0
METHOD:PUBLISH
BEGIN:VEVENT
DTSTAMP:20260423T225544Z
CREATED:20140829T083053Z
UID:ATEvent-bc7f5f9964a044c8b42610f92ea1fc39
LAST-MODIFIED:20141120T161607Z
SUMMARY:CMP-EPS tut. (3)
DTSTART:20141202T080000Z
DTEND:20141202T093000Z
LOCATION:Lecture Room Euler
CONTACT:N. Stojic
URL:https://diploma-clear.ictp.it/courses/weekly-schedule/lecture-room-euler/cmp-eps-tut-3
CLASS:PUBLIC
END:VEVENT
BEGIN:VEVENT
DTSTAMP:20260423T225544Z
CREATED:20141003T135401Z
UID:ATEvent-319fc7521b7d44a49fa043221a5f5a9f
LAST-MODIFIED:20141003T135401Z
SUMMARY:HEP-QED tut.
DTSTART:20141205T080000Z
DTEND:20141205T093000Z
LOCATION:Lecture Room Euler
CONTACT:D. Musso
URL:https://diploma-clear.ictp.it/courses/weekly-schedule/lecture-room-euler/lecture.2014-10-03.4414504173
CLASS:PUBLIC
END:VEVENT
BEGIN:VEVENT
DTSTAMP:20260423T225544Z
CREATED:20140829T091559Z
UID:ATEvent-50b4f3e0cf0241b2a568476c94376fbf
LAST-MODIFIED:20140829T091559Z
SUMMARY:HEP-PP
DTSTART:20141201T100000Z
DTEND:20141201T113000Z
LOCATION:Lecture Room Euler
CONTACT:A. Smirnov
URL:https://diploma-clear.ictp.it/courses/weekly-schedule/lecture-room-euler/lecture.2014-08-29.7597928024
CLASS:PUBLIC
END:VEVENT
BEGIN:VEVENT
DTSTAMP:20260423T225544Z
CREATED:20140829T091600Z
UID:ATEvent-661951c8440e4e7e9609b284c59d886f
LAST-MODIFIED:20140829T091600Z
SUMMARY:HEP-PP
DTSTART:20141203T100000Z
DTEND:20141203T113000Z
LOCATION:Lecture Room Euler
CONTACT:A. Smirnov
URL:https://diploma-clear.ictp.it/courses/weekly-schedule/lecture-room-euler/lecture.2014-08-29.7602627769
CLASS:PUBLIC
END:VEVENT
BEGIN:VEVENT
DTSTAMP:20260423T225544Z
CREATED:20141028T153723Z
UID:ATEvent-b8d4c3b008a44b77a5c776644dd3a91b
LAST-MODIFIED:20141118T152649Z
SUMMARY:HEP-PP tut.
DTSTART:20141204T100000Z
DTEND:20141204T113000Z
LOCATION:Lecture Room Euler
CONTACT:Xiaoyong CHU
URL:https://diploma-clear.ictp.it/courses/weekly-schedule/lecture-room-euler/lecture.2014-10-28.6435848997
CLASS:PUBLIC
END:VEVENT
BEGIN:VEVENT
DTSTAMP:20260423T225544Z
CREATED:20140829T091600Z
UID:ATEvent-6d8971ea33f840c9bacc9c40f5fcb2a1
LAST-MODIFIED:20140829T091600Z
SUMMARY:HEP-PP
DTSTART:20141205T100000Z
DTEND:20141205T113000Z
LOCATION:Lecture Room Euler
CONTACT:A. Smirnov
URL:https://diploma-clear.ictp.it/courses/weekly-schedule/lecture-room-euler/lecture.2014-08-29.7604017441
CLASS:PUBLIC
END:VEVENT
BEGIN:VEVENT
DTSTAMP:20260423T225544Z
CREATED:20140826T091028Z
UID:ATEvent-d7420ee8b31b4d7a9a5a193bf9c4cfbb
LAST-MODIFIED:20140917T085037Z
SUMMARY:HEP-QED
DTSTART:20141202T130000Z
DTEND:20141202T143000Z
LOCATION:Lecture Room Euler
CONTACT:G. Villadoro
URL:https://diploma-clear.ictp.it/courses/weekly-schedule/lecture-room-euler/lecture.2014-08-26.2289334277
CLASS:PUBLIC
END:VEVENT
BEGIN:VEVENT
DTSTAMP:20260423T225544Z
CREATED:20140826T091029Z
UID:ATEvent-84370be9d6d547659355bd2e9501adc7
LAST-MODIFIED:20140826T091029Z
SUMMARY:HEP-QED
DTSTART:20141204T130000Z
DTEND:20141204T143000Z
LOCATION:Lecture Room Euler
CONTACT:G. Villadoro
URL:https://diploma-clear.ictp.it/courses/weekly-schedule/lecture-room-euler/lecture.2014-08-26.2290625017
CLASS:PUBLIC
END:VEVENT
BEGIN:VEVENT
DTSTAMP:20260423T225544Z
CREATED:20140826T091507Z
UID:ATEvent-7ccf809efcf14fafaec01cc2ae04bb5b
LAST-MODIFIED:20140904T133119Z
SUMMARY:HEP-QED
DTSTART:20141205T130000Z
DTEND:20141205T143000Z
LOCATION:Lecture Room Euler
CONTACT:G. Villadoro
URL:https://diploma-clear.ictp.it/courses/weekly-schedule/lecture-room-euler/lecture.2014-08-26.5077119070
CLASS:PUBLIC
END:VEVENT
BEGIN:VEVENT
DTSTAMP:20260423T225544Z
CREATED:20141110T141735Z
UID:ATEvent-d7d27a372a23498397e6bcca37e4cd50
LAST-MODIFIED:20141110T141809Z
SUMMARY:CMP-SM tut.
DTSTART:20141203T150000Z
DTEND:20141203T163000Z
LOCATION:Lecture Room Euler
CONTACT:F. Landes
URL:https://diploma-clear.ictp.it/courses/weekly-schedule/lecture-room-euler/cmp-sm-tut-4
CLASS:PUBLIC
END:VEVENT
BEGIN:VEVENT
DTSTAMP:20260423T225544Z
CREATED:20140829T082749Z
UID:ATEvent-3e5bcb36c72b4a6a8010b51eae8968e7
LAST-MODIFIED:20140829T082749Z
SUMMARY:CMP-SM
DTSTART:20141204T150000Z
DTEND:20141204T163000Z
LOCATION:Lecture Room Euler
CONTACT:A. Silva
URL:https://diploma-clear.ictp.it/courses/weekly-schedule/lecture-room-euler/lecture.2014-08-29.8695389351
CLASS:PUBLIC
END:VEVENT
BEGIN:VEVENT
DTSTAMP:20260423T225544Z
CREATED:20140829T082749Z
UID:ATEvent-b3f9461a80f24befa64359e35d962bfc
LAST-MODIFIED:20140829T082749Z
SUMMARY:CMP-SM
DTSTART:20141205T150000Z
DTEND:20141205T163000Z
LOCATION:Lecture Room Euler
CONTACT:A. Silva
URL:https://diploma-clear.ictp.it/courses/weekly-schedule/lecture-room-euler/lecture.2014-08-29.8696721159
CLASS:PUBLIC
END:VEVENT
END:VCALENDAR
