BEGIN:VCALENDAR
PRODID:-//ICTPDiploma//ATRoom//EN
VERSION:2.0
METHOD:PUBLISH
BEGIN:VEVENT
DTSTAMP:20260420T132720Z
CREATED:20091007T093237Z
UID:ATEvent-9326a273f3537edd51ae2e76a0cabd6c
LAST-MODIFIED:20091007T093303Z
SUMMARY:CMP-SB
DTSTART:20091130T080000Z
DTEND:20091130T093000Z
LOCATION:Lecture Room Euler
CONTACT:Sandro Scandolo
URL:https://diploma-clear.ictp.it/courses/weekly-schedule/lecture-room-euler/cmp-sb-27
CLASS:PUBLIC
END:VEVENT
BEGIN:VEVENT
DTSTAMP:20260420T132720Z
CREATED:20091007T093317Z
UID:ATEvent-f40c88fc32b669e63a4b1ec4ec76883e
LAST-MODIFIED:20091007T093339Z
SUMMARY:CMP-SB
DTSTART:20091201T080000Z
DTEND:20091201T093000Z
LOCATION:Lecture Room Euler
CONTACT:Sandro Scandolo
URL:https://diploma-clear.ictp.it/courses/weekly-schedule/lecture-room-euler/cmp-sb-29
CLASS:PUBLIC
END:VEVENT
BEGIN:VEVENT
DTSTAMP:20260420T132720Z
CREATED:20091110T131438Z
UID:ATEvent-67f25e4480ffc6b0a3e56ed8150daf48
LAST-MODIFIED:20091110T131507Z
SUMMARY:CMP-SB
DTSTART:20091203T080000Z
DTEND:20091203T093000Z
LOCATION:Lecture Room Euler
CONTACT:Sandro Scandolo
URL:https://diploma-clear.ictp.it/courses/weekly-schedule/lecture-room-euler/cmp-sb-20
CLASS:PUBLIC
END:VEVENT
BEGIN:VEVENT
DTSTAMP:20260420T132720Z
CREATED:20091124T135558Z
UID:ATEvent-e8ed02a362de0f1652caafbdbbae9db4
LAST-MODIFIED:20091130T124837Z
SUMMARY:HEP-QED
DTSTART:20091201T100000Z
DTEND:20091201T113000Z
LOCATION:Lecture Room Euler
CONTACT:Seifallah Randjbar-Daemi
URL:https://diploma-clear.ictp.it/courses/weekly-schedule/lecture-room-euler/hep-qed-43
CLASS:PUBLIC
END:VEVENT
BEGIN:VEVENT
DTSTAMP:20260420T132720Z
CREATED:20091110T135407Z
UID:ATEvent-0d926153f31d48084667977383421417
LAST-MODIFIED:20091110T135431Z
SUMMARY:HEP-PP tut.
DTSTART:20091202T100000Z
DTEND:20091202T113000Z
LOCATION:Lecture Room Euler
CONTACT:Enkhbat Tsedelbaljir
URL:https://diploma-clear.ictp.it/courses/weekly-schedule/lecture-room-euler/hep-pp-tut-5
CLASS:PUBLIC
END:VEVENT
BEGIN:VEVENT
DTSTAMP:20260420T132720Z
CREATED:20090914T095305Z
UID:ATEvent-565dc6ede6e1ea522c80d7525583bdb3
LAST-MODIFIED:20090914T095333Z
SUMMARY:HEP-PP
DTSTART:20091130T130000Z
DTEND:20091130T143000Z
LOCATION:Lecture Room Euler
CONTACT:Alexei Smirnov
URL:https://diploma-clear.ictp.it/courses/weekly-schedule/lecture-room-euler/hep-pp-22
CLASS:PUBLIC
END:VEVENT
BEGIN:VEVENT
DTSTAMP:20260420T132720Z
CREATED:20090914T095343Z
UID:ATEvent-0c151393a7aa4b8b1cc90f95395d21d9
LAST-MODIFIED:20090914T095454Z
SUMMARY:HEP-PP
DTSTART:20091201T130000Z
DTEND:20091201T143000Z
LOCATION:Lecture Room Euler
CONTACT:Alexei Smirnov
URL:https://diploma-clear.ictp.it/courses/weekly-schedule/lecture-room-euler/hep-pp-23
CLASS:PUBLIC
END:VEVENT
BEGIN:VEVENT
DTSTAMP:20260420T132720Z
CREATED:20090914T095505Z
UID:ATEvent-edc0b2d6fd3f67310792a77dc9cdaf14
LAST-MODIFIED:20090914T095531Z
SUMMARY:HEP-PP
DTSTART:20091203T130000Z
DTEND:20091203T143000Z
LOCATION:Lecture Room Euler
CONTACT:Alexei Smirnov
URL:https://diploma-clear.ictp.it/courses/weekly-schedule/lecture-room-euler/hep-pp-24
CLASS:PUBLIC
END:VEVENT
BEGIN:VEVENT
DTSTAMP:20260420T132720Z
CREATED:20091124T143050Z
UID:ATEvent-7c431fafe452ddc2ed09c3ba5c874560
LAST-MODIFIED:20091124T143146Z
SUMMARY:HEP-QED tut.
DTSTART:20091204T150000Z
DTEND:20091204T163000Z
LOCATION:Lecture Room Euler
CONTACT:Mahdi Torabian
URL:https://diploma-clear.ictp.it/courses/weekly-schedule/lecture-room-euler/hep-qed-tut-21
CLASS:PUBLIC
END:VEVENT
END:VCALENDAR
