BEGIN:VCALENDAR
PRODID:-//ICTPDiploma//ATRoom//EN
VERSION:2.0
METHOD:PUBLISH
BEGIN:VEVENT
DTSTAMP:20260421T235423Z
CREATED:20220721T081937Z
UID:ATEvent-a4299839229a4cdb8e02ae268e07d5f5
LAST-MODIFIED:20220721T081938Z
SUMMARY:HEP-QM
DTSTART:20221010T090000Z
DTEND:20221010T103000Z
LOCATION:Lecture Room Euler
CONTACT:K.S. Narain
URL:https://diploma-clear.ictp.it/courses/weekly-schedule/lecture-room-euler/lecture.2022-07-21.5778990497
CLASS:PUBLIC
END:VEVENT
BEGIN:VEVENT
DTSTAMP:20260421T235423Z
CREATED:20220721T081938Z
UID:ATEvent-b6e9e5ad74db430da45e2a55741fecc8
LAST-MODIFIED:20220721T081938Z
SUMMARY:HEP-QM
DTSTART:20221011T090000Z
DTEND:20221011T103000Z
LOCATION:Lecture Room Euler
CONTACT:K.S. Narain
URL:https://diploma-clear.ictp.it/courses/weekly-schedule/lecture-room-euler/lecture.2022-07-21.5780557606
CLASS:PUBLIC
END:VEVENT
BEGIN:VEVENT
DTSTAMP:20260421T235423Z
CREATED:20220721T081938Z
UID:ATEvent-95b6338f4c014f52ad35017eff09c22e
LAST-MODIFIED:20220721T081938Z
SUMMARY:HEP-QM
DTSTART:20221013T090000Z
DTEND:20221013T103000Z
LOCATION:Lecture Room Euler
CONTACT:K.S. Narain
URL:https://diploma-clear.ictp.it/courses/weekly-schedule/lecture-room-euler/lecture.2022-07-21.5782198867
CLASS:PUBLIC
END:VEVENT
BEGIN:VEVENT
DTSTAMP:20260421T235423Z
CREATED:20220902T134100Z
UID:ATEvent-0d791336da34471a88c7265996ec6607
LAST-MODIFIED:20220902T134101Z
SUMMARY:HEP-QM tut.
DTSTART:20221014T090000Z
DTEND:20221014T103000Z
LOCATION:Lecture Room Euler
CONTACT:U. Moitra
URL:https://diploma-clear.ictp.it/courses/weekly-schedule/lecture-room-euler/lecture.2022-09-02.0609133619
CLASS:PUBLIC
END:VEVENT
BEGIN:VEVENT
DTSTAMP:20260421T235423Z
CREATED:20220721T082109Z
UID:ATEvent-332ded65d81c4efdb3260cf8f5fd0afb
LAST-MODIFIED:20220721T082109Z
SUMMARY:HEP-CFT
DTSTART:20221011T120000Z
DTEND:20221011T133000Z
LOCATION:Lecture Room Euler
CONTACT:B. Acharya
URL:https://diploma-clear.ictp.it/courses/weekly-schedule/lecture-room-euler/lecture.2022-07-21.6694551505
CLASS:PUBLIC
END:VEVENT
BEGIN:VEVENT
DTSTAMP:20260421T235423Z
CREATED:20220721T082109Z
UID:ATEvent-ca4583168b7b42d582d47ccd354f516a
LAST-MODIFIED:20220721T082109Z
SUMMARY:HEP-CFT
DTSTART:20221012T120000Z
DTEND:20221012T133000Z
LOCATION:Lecture Room Euler
CONTACT:B. Acharya
URL:https://diploma-clear.ictp.it/courses/weekly-schedule/lecture-room-euler/lecture.2022-07-21.6696018420
CLASS:PUBLIC
END:VEVENT
BEGIN:VEVENT
DTSTAMP:20260421T235423Z
CREATED:20220721T082109Z
UID:ATEvent-9bdd3f2d2a28482abbc4133d7399d568
LAST-MODIFIED:20220721T082109Z
SUMMARY:HEP-CFT
DTSTART:20221013T120000Z
DTEND:20221013T133000Z
LOCATION:Lecture Room Euler
CONTACT:B. Acharya
URL:https://diploma-clear.ictp.it/courses/weekly-schedule/lecture-room-euler/lecture.2022-07-21.6697617902
CLASS:PUBLIC
END:VEVENT
BEGIN:VEVENT
DTSTAMP:20260421T235423Z
CREATED:20220929T083613Z
UID:ATEvent-3a008ce5362d4961be6a1e115f2d7b9f
LAST-MODIFIED:20220929T083613Z
SUMMARY:HEP-CFT tut.
DTSTART:20221014T120000Z
DTEND:20221014T133000Z
LOCATION:Lecture Room Euler
CONTACT:J. Tian
URL:https://diploma-clear.ictp.it/courses/weekly-schedule/lecture-room-euler/lecture.2022-09-29.5734589707
CLASS:PUBLIC
END:VEVENT
BEGIN:VEVENT
DTSTAMP:20260421T235423Z
CREATED:20220916T071141Z
UID:ATEvent-bbede4a1d3a946479dcb2cd439ede320
LAST-MODIFIED:20220916T071210Z
SUMMARY:Colloquium BLH
DTSTART:20221010T140000Z
DTEND:20221010T153000Z
LOCATION:Lecture Room Euler
URL:https://diploma-clear.ictp.it/courses/weekly-schedule/lecture-room-euler/colloquium-blh
CLASS:PUBLIC
END:VEVENT
BEGIN:VEVENT
DTSTAMP:20260421T235423Z
CREATED:20220902T151147Z
UID:ATEvent-b51f01d835e649028111a3382347819b
LAST-MODIFIED:20220902T151147Z
SUMMARY:
DTSTART:20221011T140000Z
DTEND:20221011T153000Z
LOCATION:Lecture Room Euler
URL:https://diploma-clear.ictp.it/courses/weekly-schedule/lecture-room-euler/lecture.2022-09-02.5073882939
CLASS:PUBLIC
END:VEVENT
BEGIN:VEVENT
DTSTAMP:20260421T235423Z
CREATED:20220902T151147Z
UID:ATEvent-6f674df139524262baeb7a8930bf6d5e
LAST-MODIFIED:20220902T151148Z
SUMMARY:
DTSTART:20221013T140000Z
DTEND:20221013T153000Z
LOCATION:Lecture Room Euler
URL:https://diploma-clear.ictp.it/courses/weekly-schedule/lecture-room-euler/lecture.2022-09-02.5075269341
CLASS:PUBLIC
END:VEVENT
END:VCALENDAR
