BEGIN:VCALENDAR
PRODID:-//ICTPDiploma//ATRoom//EN
VERSION:2.0
METHOD:PUBLISH
BEGIN:VEVENT
DTSTAMP:20260423T071447Z
CREATED:20200803T101956Z
UID:ATEvent-55c434fe7eed4e5d86cf90f1d50733f4
LAST-MODIFIED:20201001T090457Z
SUMMARY:HEP-RQM
DTSTART:20200928T120000Z
DTEND:20200928T133000Z
LOCATION:Lecture Room Euler
CONTACT:E. Gava
URL:https://diploma-clear.ictp.it/courses/weekly-schedule/lecture-room-euler/lecture.2020-08-03.9961176647
CLASS:PUBLIC
END:VEVENT
BEGIN:VEVENT
DTSTAMP:20260423T071447Z
CREATED:20200803T101956Z
UID:ATEvent-dcb95d9d172d42ec9326e1461f6d3f64
LAST-MODIFIED:20200929T094334Z
SUMMARY:HEP-RQM
DTSTART:20201001T120000Z
DTEND:20201001T133000Z
LOCATION:Lecture Room Euler
CONTACT:E. Gava
URL:https://diploma-clear.ictp.it/courses/weekly-schedule/lecture-room-euler/lecture.2020-08-03.9962679566
CLASS:PUBLIC
END:VEVENT
BEGIN:VEVENT
DTSTAMP:20260423T071447Z
CREATED:20200803T101956Z
UID:ATEvent-e9bace10a627412ea5057b987ae15090
LAST-MODIFIED:20200803T101956Z
SUMMARY:HEP-RQM
DTSTART:20201002T120000Z
DTEND:20201002T133000Z
LOCATION:Lecture Room Euler
CONTACT:E. Gava
URL:https://diploma-clear.ictp.it/courses/weekly-schedule/lecture-room-euler/lecture.2020-08-03.9964136262
CLASS:PUBLIC
END:VEVENT
BEGIN:VEVENT
DTSTAMP:20260423T071447Z
CREATED:20200803T101818Z
UID:ATEvent-b8625118bc7b4de1acaf1d331e574c07
LAST-MODIFIED:20200915T081806Z
SUMMARY:HEP-LL
DTSTART:20200928T140000Z
DTEND:20200928T153000Z
LOCATION:Lecture Room Euler
CONTACT:K.S. Narain
URL:https://diploma-clear.ictp.it/courses/weekly-schedule/lecture-room-euler/lecture.2020-08-03.8987714789
CLASS:PUBLIC
END:VEVENT
BEGIN:VEVENT
DTSTAMP:20260423T071447Z
CREATED:20200803T101818Z
UID:ATEvent-9017d028d4114c869aa2a107723b4f50
LAST-MODIFIED:20200915T081810Z
SUMMARY:HEP-LL
DTSTART:20200929T140000Z
DTEND:20200929T153000Z
LOCATION:Lecture Room Euler
CONTACT:K.S. Narain
URL:https://diploma-clear.ictp.it/courses/weekly-schedule/lecture-room-euler/lecture.2020-08-03.8989200386
CLASS:PUBLIC
END:VEVENT
BEGIN:VEVENT
DTSTAMP:20260423T071447Z
CREATED:20200803T101819Z
UID:ATEvent-3595c50c820948d1b029719397122ab9
LAST-MODIFIED:20200915T081813Z
SUMMARY:HEP-LL
DTSTART:20200930T140000Z
DTEND:20200930T153000Z
LOCATION:Lecture Room Euler
CONTACT:K.S. Narain
URL:https://diploma-clear.ictp.it/courses/weekly-schedule/lecture-room-euler/lecture.2020-08-03.8990682544
CLASS:PUBLIC
END:VEVENT
BEGIN:VEVENT
DTSTAMP:20260423T071447Z
CREATED:20200803T101819Z
UID:ATEvent-500508baeabc4e9d894bd5877076f352
LAST-MODIFIED:20200915T081817Z
SUMMARY:HEP-LL
DTSTART:20201001T140000Z
DTEND:20201001T153000Z
LOCATION:Lecture Room Euler
CONTACT:K.S. Narain
URL:https://diploma-clear.ictp.it/courses/weekly-schedule/lecture-room-euler/lecture.2020-08-03.8992345641
CLASS:PUBLIC
END:VEVENT
BEGIN:VEVENT
DTSTAMP:20260423T071447Z
CREATED:20200915T094054Z
UID:ATEvent-3bec99e4ef744cda97ec0ce228c8cad7
LAST-MODIFIED:20200915T094054Z
SUMMARY:HEP-LL tut.
DTSTART:20201002T140000Z
DTEND:20201002T153000Z
LOCATION:Lecture Room Euler
CONTACT:I. Zadeh
URL:https://diploma-clear.ictp.it/courses/weekly-schedule/lecture-room-euler/lecture.2020-09-15.8543118750
CLASS:PUBLIC
END:VEVENT
END:VCALENDAR
