BEGIN:VCALENDAR
PRODID:-//ICTPDiploma//ATRoom//EN
VERSION:2.0
METHOD:PUBLISH
BEGIN:VEVENT
DTSTAMP:20260422T230228Z
CREATED:20150827T125341Z
UID:ATEvent-d93635b438cb4cebb882b72f13380b60
LAST-MODIFIED:20150827T125413Z
SUMMARY:HEP Mtg
DTSTART:20150904T140000Z
DTEND:20150904T153000Z
LOCATION:Lecture Room Euler
CONTACT:K.S. Narain
URL:https://diploma-clear.ictp.it/courses/weekly-schedule/lecture-room-euler/hep-mtg-2
CLASS:PUBLIC
END:VEVENT
BEGIN:VEVENT
DTSTAMP:20260422T230228Z
CREATED:20150827T125601Z
UID:ATEvent-b6f5682424c1439eb8d9dc546a7a6416
LAST-MODIFIED:20150827T125601Z
SUMMARY:Italian Lectures
DTSTART:20150831T153000Z
DTEND:20150831T170000Z
LOCATION:Lecture Room Euler
CONTACT:A. De Marchi
URL:https://diploma-clear.ictp.it/courses/weekly-schedule/lecture-room-euler/lecture.2015-08-27.1617131135
CLASS:PUBLIC
END:VEVENT
BEGIN:VEVENT
DTSTAMP:20260422T230228Z
CREATED:20150827T125601Z
UID:ATEvent-d03ab064827a40f7a2be378b01fee5ea
LAST-MODIFIED:20150827T125601Z
SUMMARY:Italian Lectures
DTSTART:20150901T153000Z
DTEND:20150901T170000Z
LOCATION:Lecture Room Euler
CONTACT:A. De Marchi
URL:https://diploma-clear.ictp.it/courses/weekly-schedule/lecture-room-euler/lecture.2015-08-27.1618547335
CLASS:PUBLIC
END:VEVENT
BEGIN:VEVENT
DTSTAMP:20260422T230228Z
CREATED:20150827T125601Z
UID:ATEvent-16f9d4b87ea84d6f921d82d9fb2ede38
LAST-MODIFIED:20150827T125602Z
SUMMARY:Italian Lectures
DTSTART:20150902T153000Z
DTEND:20150902T170000Z
LOCATION:Lecture Room Euler
CONTACT:A. De Marchi
URL:https://diploma-clear.ictp.it/courses/weekly-schedule/lecture-room-euler/lecture.2015-08-27.1619736894
CLASS:PUBLIC
END:VEVENT
BEGIN:VEVENT
DTSTAMP:20260422T230228Z
CREATED:20150827T125602Z
UID:ATEvent-5876fcff1d114df2b2e23418216d18c9
LAST-MODIFIED:20150827T125602Z
SUMMARY:Italian Lectures
DTSTART:20150903T153000Z
DTEND:20150903T170000Z
LOCATION:Lecture Room Euler
CONTACT:A. De Marchi
URL:https://diploma-clear.ictp.it/courses/weekly-schedule/lecture-room-euler/lecture.2015-08-27.1620910961
CLASS:PUBLIC
END:VEVENT
BEGIN:VEVENT
DTSTAMP:20260422T230228Z
CREATED:20150827T125602Z
UID:ATEvent-1dca5636561446978125f7536fb995cd
LAST-MODIFIED:20150827T125602Z
SUMMARY:Italian Lectures
DTSTART:20150904T153000Z
DTEND:20150904T170000Z
LOCATION:Lecture Room Euler
CONTACT:A. De Marchi
URL:https://diploma-clear.ictp.it/courses/weekly-schedule/lecture-room-euler/lecture.2015-08-27.1622085793
CLASS:PUBLIC
END:VEVENT
END:VCALENDAR
