BEGIN:VCALENDAR
PRODID:-//ICTPDiploma//ATRoom//EN
VERSION:2.0
METHOD:PUBLISH
BEGIN:VEVENT
DTSTAMP:20260422T024810Z
CREATED:20131218T103047Z
UID:ATEvent-353763f262354552a5e460a4fcf43e70
LAST-MODIFIED:20131218T103047Z
SUMMARY:HEP-COS
DTSTART:20140512T090000Z
DTEND:20140512T103000Z
LOCATION:Lecture Room Euler
CONTACT:R. Sheth
URL:https://diploma-clear.ictp.it/courses/weekly-schedule/lecture-room-euler/lecture.2013-12-18.6473724043
CLASS:PUBLIC
END:VEVENT
BEGIN:VEVENT
DTSTAMP:20260422T024810Z
CREATED:20131218T103047Z
UID:ATEvent-e98a326b433e402a9f5bdd826d6ef37f
LAST-MODIFIED:20140505T120005Z
SUMMARY:HEP-COS
DTSTART:20140513T090000Z
DTEND:20140513T103000Z
LOCATION:Lecture Room Euler
CONTACT:R. Sheth
URL:https://diploma-clear.ictp.it/courses/weekly-schedule/lecture-room-euler/lecture.2013-12-18.6476738417
CLASS:PUBLIC
END:VEVENT
BEGIN:VEVENT
DTSTAMP:20260422T024810Z
CREATED:20131218T103047Z
UID:ATEvent-5133802aa7064334a87c787e465fc48d
LAST-MODIFIED:20131218T103047Z
SUMMARY:HEP-COS
DTSTART:20140514T090000Z
DTEND:20140514T103000Z
LOCATION:Lecture Room Euler
CONTACT:R. Sheth
URL:https://diploma-clear.ictp.it/courses/weekly-schedule/lecture-room-euler/lecture.2013-12-18.6475197278
CLASS:PUBLIC
END:VEVENT
BEGIN:VEVENT
DTSTAMP:20260422T024810Z
CREATED:20131216T141926Z
UID:ATEvent-41fa65245f4646b1a7f5c47c39cdaa63
LAST-MODIFIED:20131216T141926Z
SUMMARY:HEP-SFT
DTSTART:20140512T120000Z
DTEND:20140512T133000Z
LOCATION:Lecture Room Euler
CONTACT:M. Bertolini
URL:https://diploma-clear.ictp.it/courses/weekly-schedule/lecture-room-euler/lecture.2013-12-16.5665126781
CLASS:PUBLIC
END:VEVENT
BEGIN:VEVENT
DTSTAMP:20260422T024810Z
CREATED:20131216T141926Z
UID:ATEvent-8b6716b8ac4f4a58a1baf557c045792d
LAST-MODIFIED:20131216T141926Z
SUMMARY:HEP-SFT
DTSTART:20140513T120000Z
DTEND:20140513T133000Z
LOCATION:Lecture Room Euler
CONTACT:M. Bertolini
URL:https://diploma-clear.ictp.it/courses/weekly-schedule/lecture-room-euler/lecture.2013-12-16.5666329434
CLASS:PUBLIC
END:VEVENT
BEGIN:VEVENT
DTSTAMP:20260422T024810Z
CREATED:20131216T141926Z
UID:ATEvent-88bb75169e094ff9801d6ff3b83f29da
LAST-MODIFIED:20140108T102835Z
SUMMARY:HEP-SFT
DTSTART:20140515T120000Z
DTEND:20140515T133000Z
LOCATION:Lecture Room Euler
CONTACT:M. Bertolini
URL:https://diploma-clear.ictp.it/courses/weekly-schedule/lecture-room-euler/lecture.2013-12-16.5667535873
CLASS:PUBLIC
END:VEVENT
END:VCALENDAR
