BEGIN:VCALENDAR
PRODID:-//ICTPDiploma//ATRoom//EN
VERSION:2.0
METHOD:PUBLISH
BEGIN:VEVENT
DTSTAMP:20260424T090918Z
CREATED:20100303T085422Z
UID:ATEvent-1b07bfd5567bd43ee37435ac1911b182
LAST-MODIFIED:20100511T080909Z
SUMMARY:HEP-SFT
DTSTART:20100513T070000Z
DTEND:20100513T083000Z
LOCATION:Lecture Room Euler
CONTACT:Edi Gava
URL:https://diploma-clear.ictp.it/courses/weekly-schedule/lecture-room-euler/hep-sft-28
CLASS:PUBLIC
END:VEVENT
BEGIN:VEVENT
DTSTAMP:20260424T090918Z
CREATED:20100331T091643Z
UID:ATEvent-f4ec29d3de341a44b4c92c2b0d042310
LAST-MODIFIED:20100331T091710Z
SUMMARY:HEP-GR
DTSTART:20100511T120000Z
DTEND:20100511T133000Z
LOCATION:Lecture Room Euler
CONTACT:Paolo Creminelli
URL:https://diploma-clear.ictp.it/courses/weekly-schedule/lecture-room-euler/hep-gr-50
CLASS:PUBLIC
END:VEVENT
BEGIN:VEVENT
DTSTAMP:20260424T090918Z
CREATED:20100331T091719Z
UID:ATEvent-8112dc9bb03a53522d426c5f8bfd58ed
LAST-MODIFIED:20100331T091748Z
SUMMARY:EXAM
DTSTART:20100511T140000Z
DTEND:20100511T153000Z
LOCATION:Lecture Room Euler
CONTACT:Paolo Creminelli
URL:https://diploma-clear.ictp.it/courses/weekly-schedule/lecture-room-euler/exam-25
CLASS:PUBLIC
END:VEVENT
END:VCALENDAR
