BEGIN:VCALENDAR
PRODID:-//ICTPDiploma//ATRoom//EN
VERSION:2.0
METHOD:PUBLISH
BEGIN:VEVENT
DTSTAMP:20260421T235135Z
CREATED:20151207T132813Z
UID:ATEvent-dea84d36385b4f4283b59ba85ca59737
LAST-MODIFIED:20151207T132838Z
SUMMARY:HEP-QFT
DTSTART:20160419T090000Z
DTEND:20160419T103000Z
LOCATION:Lecture Room Euler
CONTACT:A. Dabholkar
URL:https://diploma-clear.ictp.it/courses/weekly-schedule/lecture-room-euler/lecture.2015-12-07.8929706159
CLASS:PUBLIC
END:VEVENT
BEGIN:VEVENT
DTSTAMP:20260421T235135Z
CREATED:20151207T133229Z
UID:ATEvent-b6174a0a2c1143bb867af825a3c2e399
LAST-MODIFIED:20160407T082358Z
SUMMARY:HEP-GR
DTSTART:20160421T090000Z
DTEND:20160421T103000Z
LOCATION:Lecture Room Euler
CONTACT:P. Creminelli
URL:https://diploma-clear.ictp.it/courses/weekly-schedule/lecture-room-euler/lecture.2015-12-07.1490100868
CLASS:PUBLIC
END:VEVENT
BEGIN:VEVENT
DTSTAMP:20260421T235135Z
CREATED:20151207T134142Z
UID:ATEvent-c54f93d996fe4679a42291d1fe269759
LAST-MODIFIED:20160418T093844Z
SUMMARY:HEP-GR tut.
DTSTART:20160422T090000Z
DTEND:20160422T103000Z
LOCATION:Lecture Room Euler
CONTACT:A. Khmelnitski
URL:https://diploma-clear.ictp.it/courses/weekly-schedule/lecture-room-euler/lecture.2015-12-07.7025018496
CLASS:PUBLIC
END:VEVENT
BEGIN:VEVENT
DTSTAMP:20260421T235135Z
CREATED:20160408T115135Z
UID:ATEvent-544b2dd18c304560964cdbc6a226da75
LAST-MODIFIED:20160412T123518Z
SUMMARY:HEP-QFT
DTSTART:20160418T120000Z
DTEND:20160418T133000Z
LOCATION:Lecture Room Euler
CONTACT:A. Dabholkar
URL:https://diploma-clear.ictp.it/courses/weekly-schedule/lecture-room-euler/hep-sm-99
CLASS:PUBLIC
END:VEVENT
BEGIN:VEVENT
DTSTAMP:20260421T235135Z
CREATED:20160119T102638Z
UID:ATEvent-615869400baf4811b7bd3ebcf6cd3495
LAST-MODIFIED:20160415T140516Z
SUMMARY:HEP-SM
DTSTART:20160420T120000Z
DTEND:20160420T133000Z
LOCATION:Lecture Room Euler
CONTACT:G. Senjanovic
URL:https://diploma-clear.ictp.it/courses/weekly-schedule/lecture-room-euler/lecture.2016-01-19.1986848998
CLASS:PUBLIC
END:VEVENT
BEGIN:VEVENT
DTSTAMP:20260421T235135Z
CREATED:20160303T144957Z
UID:ATEvent-7831d11ead3d448ca49c299864a4fa1f
LAST-MODIFIED:20160407T082729Z
SUMMARY:HEP-SM tut.
DTSTART:20160421T120000Z
DTEND:20160421T133000Z
LOCATION:Lecture Room Euler
CONTACT:J.C. Vasquez Carmona
URL:https://diploma-clear.ictp.it/courses/weekly-schedule/lecture-room-euler/hep-sm-tut-57
CLASS:PUBLIC
END:VEVENT
BEGIN:VEVENT
DTSTAMP:20260421T235135Z
CREATED:20151207T133229Z
UID:ATEvent-7f42ab137d0b40ef9ca77dbf88717e08
LAST-MODIFIED:20151207T133229Z
SUMMARY:HEP-GR
DTSTART:20160422T120000Z
DTEND:20160422T133000Z
LOCATION:Lecture Room Euler
CONTACT:P. Creminelli
URL:https://diploma-clear.ictp.it/courses/weekly-schedule/lecture-room-euler/lecture.2015-12-07.1491345433
CLASS:PUBLIC
END:VEVENT
BEGIN:VEVENT
DTSTAMP:20260421T235135Z
CREATED:20160119T103246Z
UID:ATEvent-138db7a6caf348df9db708f509e975c7
LAST-MODIFIED:20160415T140455Z
SUMMARY:HEP-SM
DTSTART:20160418T140000Z
DTEND:20160418T153000Z
LOCATION:Lecture Room Euler
CONTACT:G. Senjanovic
URL:https://diploma-clear.ictp.it/courses/weekly-schedule/lecture-room-euler/hep-sm-98
CLASS:PUBLIC
END:VEVENT
END:VCALENDAR
