BEGIN:VCALENDAR
PRODID:-//ICTPDiploma//ATRoom//EN
VERSION:2.0
METHOD:PUBLISH
BEGIN:VEVENT
DTSTAMP:20260422T081345Z
CREATED:20220120T144827Z
UID:ATEvent-a64fcdcdeab14810aa6d1e3a9fe5e16b
LAST-MODIFIED:20220120T144853Z
SUMMARY:HEP-SM II
DTSTART:20220412T070000Z
DTEND:20220412T083000Z
LOCATION:Lecture Room Euler
CONTACT:J. Elias Miro
URL:https://diploma-clear.ictp.it/courses/weekly-schedule/lecture-room-euler/lecture.2022-01-20.1074574984
CLASS:PUBLIC
END:VEVENT
BEGIN:VEVENT
DTSTAMP:20260422T081345Z
CREATED:20220120T144827Z
UID:ATEvent-31e05f6bc0734d15b51df9e5f871e7b1
LAST-MODIFIED:20220120T144827Z
SUMMARY:HEP-SM II
DTSTART:20220413T070000Z
DTEND:20220413T083000Z
LOCATION:Lecture Room Euler
CONTACT:J. Elias Miro
URL:https://diploma-clear.ictp.it/courses/weekly-schedule/lecture-room-euler/lecture.2022-01-20.1069907741
CLASS:PUBLIC
END:VEVENT
BEGIN:VEVENT
DTSTAMP:20260422T081345Z
CREATED:20220120T144827Z
UID:ATEvent-1960a69a01b44ff4830c61a7e0532646
LAST-MODIFIED:20220120T144827Z
SUMMARY:HEP-SM II
DTSTART:20220414T070000Z
DTEND:20220414T083000Z
LOCATION:Lecture Room Euler
CONTACT:J. Elias Miro
URL:https://diploma-clear.ictp.it/courses/weekly-schedule/lecture-room-euler/lecture.2022-01-20.1072712149
CLASS:PUBLIC
END:VEVENT
BEGIN:VEVENT
DTSTAMP:20260422T081345Z
CREATED:20220309T084900Z
UID:ATEvent-59cb60c1d425440aa1694e76ca820dfa
LAST-MODIFIED:20220309T084927Z
SUMMARY:GOOD  FRIDAY
DTSTART:20220415T070000Z
DTEND:20220415T083000Z
LOCATION:Lecture Room Euler
URL:https://diploma-clear.ictp.it/courses/weekly-schedule/lecture-room-euler/good-friday-8
CLASS:PUBLIC
END:VEVENT
BEGIN:VEVENT
DTSTAMP:20260422T081345Z
CREATED:20220114T105910Z
UID:ATEvent-6846b738378b49afb8bfbf52f80dcf59
LAST-MODIFIED:20220114T105911Z
SUMMARY:HEP-GR II
DTSTART:20220411T090000Z
DTEND:20220411T103000Z
LOCATION:Lecture Room Euler
CONTACT:M. Mirbabayi
URL:https://diploma-clear.ictp.it/courses/weekly-schedule/lecture-room-euler/lecture.2022-01-14.9505190231
CLASS:PUBLIC
END:VEVENT
BEGIN:VEVENT
DTSTAMP:20260422T081345Z
CREATED:20220309T084932Z
UID:ATEvent-407e990965e94df5a2eecc462fb0dc2c
LAST-MODIFIED:20220309T084949Z
SUMMARY:ICTP
DTSTART:20220415T090000Z
DTEND:20220415T103000Z
LOCATION:Lecture Room Euler
URL:https://diploma-clear.ictp.it/courses/weekly-schedule/lecture-room-euler/ictp-38
CLASS:PUBLIC
END:VEVENT
BEGIN:VEVENT
DTSTAMP:20260422T081345Z
CREATED:20220120T145439Z
UID:ATEvent-f1d475ae5c1d40a8b1af82cb813c887d
LAST-MODIFIED:20220120T150056Z
SUMMARY:
DTSTART:20220411T120000Z
DTEND:20220411T133000Z
LOCATION:Lecture Room Euler
URL:https://diploma-clear.ictp.it/courses/weekly-schedule/lecture-room-euler/lecture.2022-01-20.4796396893
CLASS:PUBLIC
END:VEVENT
BEGIN:VEVENT
DTSTAMP:20260422T081345Z
CREATED:20220114T105911Z
UID:ATEvent-8a90fceb7be7476f8c8d33c3d89da419
LAST-MODIFIED:20220411T135508Z
SUMMARY:HEP-GR II
DTSTART:20220413T120000Z
DTEND:20220413T133000Z
LOCATION:Lecture Room Euler
CONTACT:M. Mirbabayi
URL:https://diploma-clear.ictp.it/courses/weekly-schedule/lecture-room-euler/lecture.2022-01-14.9517576327
CLASS:PUBLIC
END:VEVENT
BEGIN:VEVENT
DTSTAMP:20260422T081345Z
CREATED:20220114T105911Z
UID:ATEvent-789595ecdfa4463488834ebb2b1eb744
LAST-MODIFIED:20220411T135513Z
SUMMARY:HEP-GR II
DTSTART:20220414T120000Z
DTEND:20220414T133000Z
LOCATION:Lecture Room Euler
CONTACT:M. Mirbabayi
URL:https://diploma-clear.ictp.it/courses/weekly-schedule/lecture-room-euler/lecture.2022-01-14.9519490588
CLASS:PUBLIC
END:VEVENT
BEGIN:VEVENT
DTSTAMP:20260422T081345Z
CREATED:20220309T084955Z
UID:ATEvent-07720343ebf341d6845327a9ad938780
LAST-MODIFIED:20220309T085009Z
SUMMARY:official
DTSTART:20220415T120000Z
DTEND:20220415T133000Z
LOCATION:Lecture Room Euler
URL:https://diploma-clear.ictp.it/courses/weekly-schedule/lecture-room-euler/official-23
CLASS:PUBLIC
END:VEVENT
BEGIN:VEVENT
DTSTAMP:20260422T081345Z
CREATED:20220309T085014Z
UID:ATEvent-259a095999bc42d08ef19f69d5941b3f
LAST-MODIFIED:20220309T085048Z
SUMMARY:holiday
DTSTART:20220415T140000Z
DTEND:20220415T153000Z
LOCATION:Lecture Room Euler
URL:https://diploma-clear.ictp.it/courses/weekly-schedule/lecture-room-euler/holiday-23
CLASS:PUBLIC
END:VEVENT
END:VCALENDAR
