BEGIN:VCALENDAR
PRODID:-//ICTPDiploma//ATRoom//EN
VERSION:2.0
METHOD:PUBLISH
BEGIN:VEVENT
DTSTAMP:20260420T075507Z
CREATED:20120329T100255Z
UID:ATEvent-7f838da23dd8b706ca3401a4c02d661e
LAST-MODIFIED:20120329T100340Z
SUMMARY:ICTP
DTSTART:20120406T070000Z
DTEND:20120406T083000Z
LOCATION:Lecture Room Euler
URL:https://diploma-clear.ictp.it/courses/weekly-schedule/lecture-room-euler/ictp-10
CLASS:PUBLIC
END:VEVENT
BEGIN:VEVENT
DTSTAMP:20260420T075507Z
CREATED:20111219T150319Z
UID:ATEvent-30b4169b25f3ed704a0488334d39812a
LAST-MODIFIED:20111219T150319Z
SUMMARY:HEP-SM
DTSTART:20120402T090000Z
DTEND:20120402T103000Z
LOCATION:Lecture Room Euler
CONTACT:G. Senjanovic
URL:https://diploma-clear.ictp.it/courses/weekly-schedule/lecture-room-euler/lecture.2011-12-19.9988490330
CLASS:PUBLIC
END:VEVENT
BEGIN:VEVENT
DTSTAMP:20260420T075507Z
CREATED:20111216T153543Z
UID:ATEvent-458a2843bad95606bbabd00b331b6a1a
LAST-MODIFIED:20111216T153543Z
SUMMARY:HEP-QFT
DTSTART:20120403T090000Z
DTEND:20120403T103000Z
LOCATION:Lecture Room Euler
URL:https://diploma-clear.ictp.it/courses/weekly-schedule/lecture-room-euler/lecture.2011-12-16.7434236747
CLASS:PUBLIC
END:VEVENT
BEGIN:VEVENT
DTSTAMP:20260420T075507Z
CREATED:20120329T100401Z
UID:ATEvent-1a35818ced93607572cc6e7772db7399
LAST-MODIFIED:20120329T100423Z
SUMMARY:official
DTSTART:20120406T090000Z
DTEND:20120406T103000Z
LOCATION:Lecture Room Euler
URL:https://diploma-clear.ictp.it/courses/weekly-schedule/lecture-room-euler/official-4
CLASS:PUBLIC
END:VEVENT
BEGIN:VEVENT
DTSTAMP:20260420T075507Z
CREATED:20111216T153703Z
UID:ATEvent-10c3ad2c83a614e2ebdda0c1cf89bc03
LAST-MODIFIED:20120329T090425Z
SUMMARY:HEP-GR
DTSTART:20120403T120000Z
DTEND:20120403T133000Z
LOCATION:Lecture Room Euler
CONTACT:A. Paranjape
URL:https://diploma-clear.ictp.it/courses/weekly-schedule/lecture-room-euler/hep-gr-81
CLASS:PUBLIC
END:VEVENT
BEGIN:VEVENT
DTSTAMP:20260420T075507Z
CREATED:20120307T152626Z
UID:ATEvent-61a127bb69762bcb52863fce768eab1d
LAST-MODIFIED:20120307T152701Z
SUMMARY:HEP-QFT tut.
DTSTART:20120404T120000Z
DTEND:20120404T133000Z
LOCATION:Lecture Room Euler
CONTACT:M. Cicoli
URL:https://diploma-clear.ictp.it/courses/weekly-schedule/lecture-room-euler/hep-qft-tut-47
CLASS:PUBLIC
END:VEVENT
BEGIN:VEVENT
DTSTAMP:20260420T075507Z
CREATED:20120329T100435Z
UID:ATEvent-fad83593e056344d5af1440417b836fc
LAST-MODIFIED:20120329T100456Z
SUMMARY:holiday
DTSTART:20120406T120000Z
DTEND:20120406T133000Z
LOCATION:Lecture Room Euler
URL:https://diploma-clear.ictp.it/courses/weekly-schedule/lecture-room-euler/holiday-4
CLASS:PUBLIC
END:VEVENT
BEGIN:VEVENT
DTSTAMP:20260420T075507Z
CREATED:20120329T090651Z
UID:ATEvent-b5b62f4c38ed97dca03ab0a2601553eb
LAST-MODIFIED:20120403T090633Z
SUMMARY:HEP-GR
DTSTART:20120404T140000Z
DTEND:20120404T153000Z
LOCATION:Lecture Room Euler
CONTACT:A. Paranjape
URL:https://diploma-clear.ictp.it/courses/weekly-schedule/lecture-room-euler/hep-gr-82
CLASS:PUBLIC
END:VEVENT
BEGIN:VEVENT
DTSTAMP:20260420T075507Z
CREATED:20120329T100506Z
UID:ATEvent-fcc20453033749617c4ae589a224d639
LAST-MODIFIED:20120329T100537Z
SUMMARY:(Good Friday)
DTSTART:20120406T140000Z
DTEND:20120406T153000Z
LOCATION:Lecture Room Euler
URL:https://diploma-clear.ictp.it/courses/weekly-schedule/lecture-room-euler/good-friday
CLASS:PUBLIC
END:VEVENT
END:VCALENDAR
