BEGIN:VCALENDAR
PRODID:-//ICTPDiploma//ATRoom//EN
VERSION:2.0
METHOD:PUBLISH
BEGIN:VEVENT
DTSTAMP:20260420T191738Z
CREATED:20090112T141738Z
UID:ATEvent-0b914d609bb8b99c4b07a3aef60b8127
LAST-MODIFIED:20090112T141823Z
SUMMARY:CMP-SUP
DTSTART:20090323T080000Z
DTEND:20090323T093000Z
LOCATION:Lecture Room Euler
CONTACT:Oleg Yevtushenko
URL:https://diploma-clear.ictp.it/courses/weekly-schedule/lecture-room-euler/cmp-sup
CLASS:PUBLIC
END:VEVENT
BEGIN:VEVENT
DTSTAMP:20260420T191738Z
CREATED:20090306T154936Z
UID:ATEvent-1403a97c0ba72564e93b279d6ada052e
LAST-MODIFIED:20090309T114756Z
SUMMARY:9:30 CMP - MN
DTSTART:20090324T080000Z
DTEND:20090324T093000Z
LOCATION:Lecture Room Euler
CONTACT:Mikhail Kiselev
URL:https://diploma-clear.ictp.it/courses/weekly-schedule/lecture-room-euler/cmp-mn-12
CLASS:PUBLIC
END:VEVENT
BEGIN:VEVENT
DTSTAMP:20260420T191738Z
CREATED:20090112T141839Z
UID:ATEvent-6fa3204ca636301f9237fc735a288d6c
LAST-MODIFIED:20090309T114256Z
SUMMARY:CMP-SUP
DTSTART:20090325T080000Z
DTEND:20090325T093000Z
LOCATION:Lecture Room Euler
CONTACT:Oleg Yevtushenko
URL:https://diploma-clear.ictp.it/courses/weekly-schedule/lecture-room-euler/cmp-sup-1
CLASS:PUBLIC
END:VEVENT
BEGIN:VEVENT
DTSTAMP:20260420T191738Z
CREATED:20090112T141956Z
UID:ATEvent-ec317222a94b46e953e60b64aa0e39b3
LAST-MODIFIED:20090112T144134Z
SUMMARY:CMP-SUP
DTSTART:20090326T080000Z
DTEND:20090326T093000Z
LOCATION:Lecture Room Euler
CONTACT:Oleg Yevtushenko
URL:https://diploma-clear.ictp.it/courses/weekly-schedule/lecture-room-euler/cmp-sup-2
CLASS:PUBLIC
END:VEVENT
BEGIN:VEVENT
DTSTAMP:20260420T191739Z
CREATED:20090112T144148Z
UID:ATEvent-cea5e15929815ceef5c799ef657e77ba
LAST-MODIFIED:20090112T144230Z
SUMMARY:CMP-SUP
DTSTART:20090327T080000Z
DTEND:20090327T093000Z
LOCATION:Lecture Room Euler
CONTACT:Oleg Yevtushenko
URL:https://diploma-clear.ictp.it/courses/weekly-schedule/lecture-room-euler/cmp-sup-3
CLASS:PUBLIC
END:VEVENT
BEGIN:VEVENT
DTSTAMP:20260420T191739Z
CREATED:20090306T155052Z
UID:ATEvent-56fdf5e5f538719a55f3b4b6d5c17336
LAST-MODIFIED:20090309T114629Z
SUMMARY:EXAM
DTSTART:20090324T100000Z
DTEND:20090324T113000Z
LOCATION:Lecture Room Euler
CONTACT:Mikhail Kiselev
URL:https://diploma-clear.ictp.it/courses/weekly-schedule/lecture-room-euler/exam-9
CLASS:PUBLIC
END:VEVENT
BEGIN:VEVENT
DTSTAMP:20260420T191739Z
CREATED:20090108T160913Z
UID:ATEvent-9be6bb175a3135eb16e24782915c91a6
LAST-MODIFIED:20090108T161004Z
SUMMARY:HEP-SM
DTSTART:20090325T100000Z
DTEND:20090325T113000Z
LOCATION:Lecture Room Euler
CONTACT:Goran Senjanovic
URL:https://diploma-clear.ictp.it/courses/weekly-schedule/lecture-room-euler/hep-sm-21
CLASS:PUBLIC
END:VEVENT
BEGIN:VEVENT
DTSTAMP:20260420T191739Z
CREATED:20090108T161017Z
UID:ATEvent-170bf648da10605c710512b81af20714
LAST-MODIFIED:20090108T161056Z
SUMMARY:HEP-SM
DTSTART:20090327T100000Z
DTEND:20090327T113000Z
LOCATION:Lecture Room Euler
CONTACT:Goran Senjanovic
URL:https://diploma-clear.ictp.it/courses/weekly-schedule/lecture-room-euler/hep-sm-22
CLASS:PUBLIC
END:VEVENT
BEGIN:VEVENT
DTSTAMP:20260420T191739Z
CREATED:20090107T151113Z
UID:ATEvent-5c39f9eada0659dfdd51dba156ddc54d
LAST-MODIFIED:20090107T151200Z
SUMMARY:HEP-GR
DTSTART:20090323T130000Z
DTEND:20090323T143000Z
LOCATION:Lecture Room Euler
CONTACT:Paolo Creminelli
URL:https://diploma-clear.ictp.it/courses/weekly-schedule/lecture-room-euler/hep-gr-14
CLASS:PUBLIC
END:VEVENT
BEGIN:VEVENT
DTSTAMP:20260420T191739Z
CREATED:20090107T151215Z
UID:ATEvent-158bbaab49e337701cd6296ffaed0508
LAST-MODIFIED:20090107T151309Z
SUMMARY:HEP-GR
DTSTART:20090325T130000Z
DTEND:20090325T143000Z
LOCATION:Lecture Room Euler
CONTACT:Paolo Creminelli
URL:https://diploma-clear.ictp.it/courses/weekly-schedule/lecture-room-euler/hep-gr-15
CLASS:PUBLIC
END:VEVENT
BEGIN:VEVENT
DTSTAMP:20260420T191739Z
CREATED:20090112T091442Z
UID:ATEvent-a1bb077e9c40d49f00138b2f0af310c0
LAST-MODIFIED:20090326T083706Z
SUMMARY:HEP-GR tut.
DTSTART:20090327T130000Z
DTEND:20090327T143000Z
LOCATION:Lecture Room Euler
CONTACT:Marcello Musso
URL:https://diploma-clear.ictp.it/courses/weekly-schedule/lecture-room-euler/hep-gr-tut-5
CLASS:PUBLIC
END:VEVENT
BEGIN:VEVENT
DTSTAMP:20260420T191739Z
CREATED:20090303T160417Z
UID:ATEvent-d93893a9c3f116d258a997bbeaed28d4
LAST-MODIFIED:20090303T160533Z
SUMMARY:HEP-SM tut.
DTSTART:20090324T150000Z
DTEND:20090324T163000Z
LOCATION:Lecture Room Euler
CONTACT:Peihong Gu
URL:https://diploma-clear.ictp.it/courses/weekly-schedule/lecture-room-euler/hep-sm-tut-4
CLASS:PUBLIC
END:VEVENT
END:VCALENDAR
