BEGIN:VCALENDAR
PRODID:-//ICTPDiploma//ATRoom//EN
VERSION:2.0
METHOD:PUBLISH
BEGIN:VEVENT
DTSTAMP:20260425T023856Z
CREATED:20110214T110916Z
UID:ATEvent-07a82196d6edcd33eb27fd0ea26ef10e
LAST-MODIFIED:20110214T110948Z
SUMMARY:CMP-MN
DTSTART:20110321T080000Z
DTEND:20110321T093000Z
LOCATION:Lecture Room Euler
CONTACT:M. Kiselev
URL:https://diploma-clear.ictp.it/courses/weekly-schedule/lecture-room-euler/cmp-mn-19
CLASS:PUBLIC
END:VEVENT
BEGIN:VEVENT
DTSTAMP:20260425T023856Z
CREATED:20110214T111059Z
UID:ATEvent-afdae4376dbcc726f6c64395f33435bc
LAST-MODIFIED:20110302T102040Z
SUMMARY:HEP-QFT
DTSTART:20110322T080000Z
DTEND:20110322T093000Z
LOCATION:Lecture Room Euler
CONTACT:M. Serone
URL:https://diploma-clear.ictp.it/courses/weekly-schedule/lecture-room-euler/hep-qft-72
CLASS:PUBLIC
END:VEVENT
BEGIN:VEVENT
DTSTAMP:20260425T023856Z
CREATED:20110214T111555Z
UID:ATEvent-1fd6be8aad7fa20430dbe81dddb60acc
LAST-MODIFIED:20110214T111618Z
SUMMARY:CMP-MN
DTSTART:20110323T080000Z
DTEND:20110323T093000Z
LOCATION:Lecture Room Euler
CONTACT:M. Kiselev
URL:https://diploma-clear.ictp.it/courses/weekly-schedule/lecture-room-euler/cmp-mn-20
CLASS:PUBLIC
END:VEVENT
BEGIN:VEVENT
DTSTAMP:20260425T023856Z
CREATED:20110214T111630Z
UID:ATEvent-5a9bb6b2c08d2afb9f0c5e4c56737147
LAST-MODIFIED:20110302T102048Z
SUMMARY:HEP-QFT
DTSTART:20110324T080000Z
DTEND:20110324T093000Z
LOCATION:Lecture Room Euler
CONTACT:M. Serone
URL:https://diploma-clear.ictp.it/courses/weekly-schedule/lecture-room-euler/hep-qft-73
CLASS:PUBLIC
END:VEVENT
BEGIN:VEVENT
DTSTAMP:20260425T023856Z
CREATED:20110214T111746Z
UID:ATEvent-1d603888d845f06acf022f9c10ba66a2
LAST-MODIFIED:20110214T111854Z
SUMMARY:CMP-MN
DTSTART:20110325T080000Z
DTEND:20110325T093000Z
LOCATION:Lecture Room Euler
CONTACT:M. Kiselev
URL:https://diploma-clear.ictp.it/courses/weekly-schedule/lecture-room-euler/cmp-mn-21
CLASS:PUBLIC
END:VEVENT
BEGIN:VEVENT
DTSTAMP:20260425T023856Z
CREATED:20110214T110958Z
UID:ATEvent-a844dd8bed458cbc7f6167f66584a297
LAST-MODIFIED:20110214T111021Z
SUMMARY:HEP-GR tut.
DTSTART:20110321T100000Z
DTEND:20110321T113000Z
LOCATION:Lecture Room Euler
CONTACT:M. Musso
URL:https://diploma-clear.ictp.it/courses/weekly-schedule/lecture-room-euler/hep-gr-tut-28
CLASS:PUBLIC
END:VEVENT
BEGIN:VEVENT
DTSTAMP:20260425T023856Z
CREATED:20110318T124835Z
UID:ATEvent-ae9523a5718d708a83ff5ad167728787
LAST-MODIFIED:20110321T095653Z
SUMMARY:CMP-MN tut.
DTSTART:20110323T100000Z
DTEND:20110323T113000Z
LOCATION:Lecture Room Euler
CONTACT:Z. Ratiani
URL:https://diploma-clear.ictp.it/courses/weekly-schedule/lecture-room-euler/cmp-mn-tut.-2
CLASS:PUBLIC
END:VEVENT
BEGIN:VEVENT
DTSTAMP:20260425T023856Z
CREATED:20110318T125040Z
UID:ATEvent-ab70dfc93eff2f94da664ec02a223f75
LAST-MODIFIED:20110321T095602Z
SUMMARY:CMP-MN tut.
DTSTART:20110325T100000Z
DTEND:20110325T113000Z
LOCATION:Lecture Room Euler
CONTACT:Z. Ratiani
URL:https://diploma-clear.ictp.it/courses/weekly-schedule/lecture-room-euler/cmp-mn-tut.-3
CLASS:PUBLIC
END:VEVENT
BEGIN:VEVENT
DTSTAMP:20260425T023856Z
CREATED:20110214T111709Z
UID:ATEvent-79c0dfc37ebc44e8b25c415eab1a7979
LAST-MODIFIED:20110214T111736Z
SUMMARY:HEP-SM
DTSTART:20110324T130000Z
DTEND:20110324T143000Z
LOCATION:Lecture Room Euler
CONTACT:G. Senjanovic
URL:https://diploma-clear.ictp.it/courses/weekly-schedule/lecture-room-euler/hep-sm-53
CLASS:PUBLIC
END:VEVENT
BEGIN:VEVENT
DTSTAMP:20260425T023856Z
CREATED:20110214T111904Z
UID:ATEvent-922b8a17f30f4b25fe1b663d07b7cdd6
LAST-MODIFIED:20110214T111934Z
SUMMARY:HEP-GR
DTSTART:20110325T130000Z
DTEND:20110325T143000Z
LOCATION:Lecture Room Euler
CONTACT:P. Creminelli
URL:https://diploma-clear.ictp.it/courses/weekly-schedule/lecture-room-euler/hep-gr-71
CLASS:PUBLIC
END:VEVENT
BEGIN:VEVENT
DTSTAMP:20260425T023856Z
CREATED:20110316T105314Z
UID:ATEvent-6835ff688b4f7f9fa2bfe2d942b5a77c
LAST-MODIFIED:20110316T105344Z
SUMMARY:HEP-QFT tut.
DTSTART:20110322T150000Z
DTEND:20110322T163000Z
LOCATION:Lecture Room Euler
CONTACT:Bindusar SAHOO
URL:https://diploma-clear.ictp.it/courses/weekly-schedule/lecture-room-euler/hep-qft-tut-28
CLASS:PUBLIC
END:VEVENT
BEGIN:VEVENT
DTSTAMP:20260425T023857Z
CREATED:20110214T131039Z
UID:ATEvent-d5f2a4f7a391d2643b723f30c91748db
LAST-MODIFIED:20110214T131103Z
SUMMARY:HEP-SM tut.
DTSTART:20110323T150000Z
DTEND:20110323T163000Z
LOCATION:Lecture Room Euler
CONTACT:Miha Nemevsek
URL:https://diploma-clear.ictp.it/courses/weekly-schedule/lecture-room-euler/hep-sm-tut-24
CLASS:PUBLIC
END:VEVENT
BEGIN:VEVENT
DTSTAMP:20260425T023857Z
CREATED:20110214T111508Z
UID:ATEvent-1d9bd1ceada8c996ac838e7f6807e5b2
LAST-MODIFIED:20110303T113122Z
SUMMARY:HEP-GR
DTSTART:20110324T150000Z
DTEND:20110324T163000Z
LOCATION:Lecture Room Euler
CONTACT:P. Creminelli
URL:https://diploma-clear.ictp.it/courses/weekly-schedule/lecture-room-euler/hep-gr-70
CLASS:PUBLIC
END:VEVENT
BEGIN:VEVENT
DTSTAMP:20260425T023857Z
CREATED:20110222T112348Z
UID:ATEvent-c92ad50341e4b71159c79d0e7ee7fc77
LAST-MODIFIED:20110222T112436Z
SUMMARY:HEP-QFT tut.
DTSTART:20110325T150000Z
DTEND:20110325T163000Z
LOCATION:Lecture Room Euler
CONTACT:Bindusar SAHOO
URL:https://diploma-clear.ictp.it/courses/weekly-schedule/lecture-room-euler/hep-qft-tut-29
CLASS:PUBLIC
END:VEVENT
END:VCALENDAR
