BEGIN:VCALENDAR
PRODID:-//ICTPDiploma//ATRoom//EN
VERSION:2.0
METHOD:PUBLISH
BEGIN:VEVENT
DTSTAMP:20260421T144009Z
CREATED:20120229T152249Z
UID:ATEvent-2999416c829580f1f953056b567976af
LAST-MODIFIED:20120229T152341Z
SUMMARY:CMP-MBP tut.
DTSTART:20120322T080000Z
DTEND:20120322T093000Z
LOCATION:Lecture Room Euler
CONTACT:M. Kiselev
URL:https://diploma-clear.ictp.it/courses/weekly-schedule/lecture-room-euler/cmp-mbp-tut
CLASS:PUBLIC
END:VEVENT
BEGIN:VEVENT
DTSTAMP:20260421T144009Z
CREATED:20111219T150317Z
UID:ATEvent-9fdcc81b485ada6c5182ef92e122e37f
LAST-MODIFIED:20111219T150317Z
SUMMARY:HEP-SM
DTSTART:20120319T100000Z
DTEND:20120319T113000Z
LOCATION:Lecture Room Euler
CONTACT:G. Senjanovic
URL:https://diploma-clear.ictp.it/courses/weekly-schedule/lecture-room-euler/lecture.2011-12-19.9975903256
CLASS:PUBLIC
END:VEVENT
BEGIN:VEVENT
DTSTAMP:20260421T144009Z
CREATED:20111216T153542Z
UID:ATEvent-a2dbe40f6a34b0a9c59822fce98a888c
LAST-MODIFIED:20111216T153542Z
SUMMARY:HEP-QFT
DTSTART:20120320T100000Z
DTEND:20120320T113000Z
LOCATION:Lecture Room Euler
URL:https://diploma-clear.ictp.it/courses/weekly-schedule/lecture-room-euler/lecture.2011-12-16.7418852848
CLASS:PUBLIC
END:VEVENT
BEGIN:VEVENT
DTSTAMP:20260421T144009Z
CREATED:20111219T150318Z
UID:ATEvent-8111eddfa4ea7ca6989d36329eead58f
LAST-MODIFIED:20111219T150318Z
SUMMARY:HEP-SM
DTSTART:20120321T100000Z
DTEND:20120321T113000Z
LOCATION:Lecture Room Euler
CONTACT:G. Senjanovic
URL:https://diploma-clear.ictp.it/courses/weekly-schedule/lecture-room-euler/lecture.2011-12-19.9978921269
CLASS:PUBLIC
END:VEVENT
BEGIN:VEVENT
DTSTAMP:20260421T144009Z
CREATED:20111216T153542Z
UID:ATEvent-882b10fec97c4e70e1c220c5deb1525c
LAST-MODIFIED:20111216T153542Z
SUMMARY:HEP-QFT
DTSTART:20120322T100000Z
DTEND:20120322T113000Z
LOCATION:Lecture Room Euler
URL:https://diploma-clear.ictp.it/courses/weekly-schedule/lecture-room-euler/lecture.2011-12-16.7422521166
CLASS:PUBLIC
END:VEVENT
BEGIN:VEVENT
DTSTAMP:20260421T144009Z
CREATED:20111219T151836Z
UID:ATEvent-1861bba1a423bfbcda23f30545d94dce
LAST-MODIFIED:20120130T140402Z
SUMMARY:HEP-GR tut.
DTSTART:20120319T130000Z
DTEND:20120319T143000Z
LOCATION:Lecture Room Euler
CONTACT:E. Sefusatti
URL:https://diploma-clear.ictp.it/courses/weekly-schedule/lecture-room-euler/hep-gr-tut-38
CLASS:PUBLIC
END:VEVENT
BEGIN:VEVENT
DTSTAMP:20260421T144009Z
CREATED:20120130T134341Z
UID:ATEvent-679b7e117ba732541b3504aee340e165
LAST-MODIFIED:20120306T132242Z
SUMMARY:HEP-QFT tut.
DTSTART:20120321T130000Z
DTEND:20120321T143000Z
LOCATION:Lecture Room Euler
CONTACT:M. Cicoli
URL:https://diploma-clear.ictp.it/courses/weekly-schedule/lecture-room-euler/hep-qft-tut-41
CLASS:PUBLIC
END:VEVENT
BEGIN:VEVENT
DTSTAMP:20260421T144009Z
CREATED:20120227T135841Z
UID:ATEvent-c25553ec4deadecb88918c995a1005ef
LAST-MODIFIED:20120323T075913Z
SUMMARY:HEP-SM
DTSTART:20120323T150000Z
DTEND:20120323T163000Z
LOCATION:Lecture Room Euler
CONTACT:G. Senjanovic
URL:https://diploma-clear.ictp.it/courses/weekly-schedule/lecture-room-euler/hep-sm-64
CLASS:PUBLIC
END:VEVENT
END:VCALENDAR
