BEGIN:VCALENDAR
PRODID:-//ICTPDiploma//ATRoom//EN
VERSION:2.0
METHOD:PUBLISH
BEGIN:VEVENT
DTSTAMP:20260421T050100Z
CREATED:20090112T114138Z
UID:ATEvent-ce8db9e877f0468bac1f93fbbb0fc73d
LAST-MODIFIED:20090112T114225Z
SUMMARY:CMP-MN
DTSTART:20090309T080000Z
DTEND:20090309T093000Z
LOCATION:Lecture Room Euler
CONTACT:Mikhail Kiselev
URL:https://diploma-clear.ictp.it/courses/weekly-schedule/lecture-room-euler/cmp-mn-9
CLASS:PUBLIC
END:VEVENT
BEGIN:VEVENT
DTSTAMP:20260421T050100Z
CREATED:20090112T114236Z
UID:ATEvent-825848c6f358ca3ca4a0f836c5538106
LAST-MODIFIED:20090112T114318Z
SUMMARY:CMP-MN
DTSTART:20090311T080000Z
DTEND:20090311T093000Z
LOCATION:Lecture Room Euler
CONTACT:Mikhail Kiselev
URL:https://diploma-clear.ictp.it/courses/weekly-schedule/lecture-room-euler/cmp-mn-10
CLASS:PUBLIC
END:VEVENT
BEGIN:VEVENT
DTSTAMP:20260421T050100Z
CREATED:20090112T114330Z
UID:ATEvent-4caab26f36f38042c77b2b6cccc84f6a
LAST-MODIFIED:20090112T114401Z
SUMMARY:CMP-MN
DTSTART:20090313T080000Z
DTEND:20090313T093000Z
LOCATION:Lecture Room Euler
CONTACT:Mikhail Kiselev
URL:https://diploma-clear.ictp.it/courses/weekly-schedule/lecture-room-euler/cmp-mn-11
CLASS:PUBLIC
END:VEVENT
BEGIN:VEVENT
DTSTAMP:20260421T050100Z
CREATED:20090107T140749Z
UID:ATEvent-8cf3a2df69f8cdd2b93fad2b3b6b6d8d
LAST-MODIFIED:20090107T140847Z
SUMMARY:HEP-QFT
DTSTART:20090310T100000Z
DTEND:20090310T113000Z
LOCATION:Lecture Room Euler
CONTACT:K. S. Narain
URL:https://diploma-clear.ictp.it/courses/weekly-schedule/lecture-room-euler/hep-qft-14
CLASS:PUBLIC
END:VEVENT
BEGIN:VEVENT
DTSTAMP:20260421T050100Z
CREATED:20090108T155742Z
UID:ATEvent-58d301b1c02fe450b42d30936811933b
LAST-MODIFIED:20090108T155835Z
SUMMARY:HEP-SM
DTSTART:20090311T100000Z
DTEND:20090311T113000Z
LOCATION:Lecture Room Euler
CONTACT:Goran Senjanovic
URL:https://diploma-clear.ictp.it/courses/weekly-schedule/lecture-room-euler/hep-sm-15
CLASS:PUBLIC
END:VEVENT
BEGIN:VEVENT
DTSTAMP:20260421T050100Z
CREATED:20090107T140858Z
UID:ATEvent-f253ad34c087ae9800bc5fb439d84f9d
LAST-MODIFIED:20090107T140934Z
SUMMARY:HEP-QFT
DTSTART:20090312T100000Z
DTEND:20090312T113000Z
LOCATION:Lecture Room Euler
CONTACT:K. S. Narain
URL:https://diploma-clear.ictp.it/courses/weekly-schedule/lecture-room-euler/hep-qft-15
CLASS:PUBLIC
END:VEVENT
BEGIN:VEVENT
DTSTAMP:20260421T050100Z
CREATED:20090107T150335Z
UID:ATEvent-14aebf97b0ded45df9403b63c970e0ab
LAST-MODIFIED:20090107T150426Z
SUMMARY:HEP-GR
DTSTART:20090309T130000Z
DTEND:20090309T143000Z
LOCATION:Lecture Room Euler
CONTACT:Paolo Creminelli
URL:https://diploma-clear.ictp.it/courses/weekly-schedule/lecture-room-euler/hep-gr-10
CLASS:PUBLIC
END:VEVENT
BEGIN:VEVENT
DTSTAMP:20260421T050100Z
CREATED:20090107T150451Z
UID:ATEvent-21915ba15396d5253a7c600ecd7493cd
LAST-MODIFIED:20090107T150804Z
SUMMARY:HEP-GR
DTSTART:20090311T130000Z
DTEND:20090311T143000Z
LOCATION:Lecture Room Euler
CONTACT:Paolo Creminelli
URL:https://diploma-clear.ictp.it/courses/weekly-schedule/lecture-room-euler/hep-gr-11
CLASS:PUBLIC
END:VEVENT
BEGIN:VEVENT
DTSTAMP:20260421T050100Z
CREATED:20090112T091238Z
UID:ATEvent-bab7d72658133c3b3d6774e262d5e28e
LAST-MODIFIED:20090112T091321Z
SUMMARY:HEP-GR tut.
DTSTART:20090312T130000Z
DTEND:20090312T143000Z
LOCATION:Lecture Room Euler
CONTACT:Marcello Musso
URL:https://diploma-clear.ictp.it/courses/weekly-schedule/lecture-room-euler/hep-gr-tut-4
CLASS:PUBLIC
END:VEVENT
BEGIN:VEVENT
DTSTAMP:20260421T050100Z
CREATED:20090218T092932Z
UID:ATEvent-831205f6949feb317caf1c2c93c854de
LAST-MODIFIED:20090218T093017Z
SUMMARY:HEP-SM tut.
DTSTART:20090310T150000Z
DTEND:20090310T163000Z
LOCATION:Lecture Room Euler
CONTACT:Peihong Gu
URL:https://diploma-clear.ictp.it/courses/weekly-schedule/lecture-room-euler/hep-sm-tut-3
CLASS:PUBLIC
END:VEVENT
END:VCALENDAR
