BEGIN:VCALENDAR
PRODID:-//ICTPDiploma//ATRoom//EN
VERSION:2.0
METHOD:PUBLISH
BEGIN:VEVENT
DTSTAMP:20260423T053145Z
CREATED:20091217T131156Z
UID:ATEvent-341c195cfd6a2d6d48912fa3c5a2ff80
LAST-MODIFIED:20091217T131240Z
SUMMARY:CMP-STP
DTSTART:20100202T080000Z
DTEND:20100202T093000Z
LOCATION:Lecture Room Euler
CONTACT:Andrea Gambassi
URL:https://diploma-clear.ictp.it/courses/weekly-schedule/lecture-room-euler/cmp-stp-3
CLASS:PUBLIC
END:VEVENT
BEGIN:VEVENT
DTSTAMP:20260423T053145Z
CREATED:20091217T131505Z
UID:ATEvent-6397d5328746ca6079212a5072773422
LAST-MODIFIED:20091217T131527Z
SUMMARY:CMP-STP
DTSTART:20100204T080000Z
DTEND:20100204T093000Z
LOCATION:Lecture Room Euler
CONTACT:Andrea Gambassi
URL:https://diploma-clear.ictp.it/courses/weekly-schedule/lecture-room-euler/cmp-stp-4
CLASS:PUBLIC
END:VEVENT
BEGIN:VEVENT
DTSTAMP:20260423T053145Z
CREATED:20091217T131636Z
UID:ATEvent-fc659a7e6d0c0744c0809a68676f0ab7
LAST-MODIFIED:20091217T131739Z
SUMMARY:CMP-STP
DTSTART:20100205T080000Z
DTEND:20100205T093000Z
LOCATION:Lecture Room Euler
CONTACT:Andrea Gambassi
URL:https://diploma-clear.ictp.it/courses/weekly-schedule/lecture-room-euler/cmp-stp-5
CLASS:PUBLIC
END:VEVENT
BEGIN:VEVENT
DTSTAMP:20260423T053145Z
CREATED:20100201T130127Z
UID:ATEvent-435b4091c11fc8a12abfd25158cade44
LAST-MODIFIED:20100201T130308Z
SUMMARY:HEP-SM
DTSTART:20100201T100000Z
DTEND:20100201T113000Z
LOCATION:Lecture Room Euler
CONTACT:Goran Senjanovic
URL:https://diploma-clear.ictp.it/courses/weekly-schedule/lecture-room-euler/hep-sm-41
CLASS:PUBLIC
END:VEVENT
BEGIN:VEVENT
DTSTAMP:20260423T053145Z
CREATED:20091217T131302Z
UID:ATEvent-233d48c569bee9cfe9631cedc3145496
LAST-MODIFIED:20091217T131328Z
SUMMARY:HEP-QFT
DTSTART:20100202T100000Z
DTEND:20100202T113000Z
LOCATION:Lecture Room Euler
CONTACT:K. S. Narain
URL:https://diploma-clear.ictp.it/courses/weekly-schedule/lecture-room-euler/hep-qft-31
CLASS:PUBLIC
END:VEVENT
BEGIN:VEVENT
DTSTAMP:20260423T053145Z
CREATED:20100201T130325Z
UID:ATEvent-9b08c0dc31da5c6779c00cc635191c85
LAST-MODIFIED:20100201T130403Z
SUMMARY:HEP-SM
DTSTART:20100203T100000Z
DTEND:20100203T113000Z
LOCATION:Lecture Room Euler
CONTACT:Goran Senjanovic
URL:https://diploma-clear.ictp.it/courses/weekly-schedule/lecture-room-euler/hep-sm-42
CLASS:PUBLIC
END:VEVENT
BEGIN:VEVENT
DTSTAMP:20260423T053145Z
CREATED:20091217T131550Z
UID:ATEvent-440eddd2bc663db1491df4520d6e0cac
LAST-MODIFIED:20091217T131625Z
SUMMARY:HEP-QFT
DTSTART:20100204T100000Z
DTEND:20100204T113000Z
LOCATION:Lecture Room Euler
CONTACT:K. S. Narain
URL:https://diploma-clear.ictp.it/courses/weekly-schedule/lecture-room-euler/hep-qft-32
CLASS:PUBLIC
END:VEVENT
BEGIN:VEVENT
DTSTAMP:20260423T053145Z
CREATED:20100201T130445Z
UID:ATEvent-45d2493bfae050e14ddfaae677eef1ae
LAST-MODIFIED:20100201T130537Z
SUMMARY:HEP-SM
DTSTART:20100205T100000Z
DTEND:20100205T113000Z
LOCATION:Lecture Room Euler
CONTACT:Goran Senjanovic
URL:https://diploma-clear.ictp.it/courses/weekly-schedule/lecture-room-euler/hep-sm-43
CLASS:PUBLIC
END:VEVENT
BEGIN:VEVENT
DTSTAMP:20260423T053145Z
CREATED:20091217T131043Z
UID:ATEvent-321cfc8ff5f63e7a61e06fe11a436427
LAST-MODIFIED:20091217T131143Z
SUMMARY:HEP-GR
DTSTART:20100201T130000Z
DTEND:20100201T143000Z
LOCATION:Lecture Room Euler
CONTACT:Paolo Creminelli
URL:https://diploma-clear.ictp.it/courses/weekly-schedule/lecture-room-euler/hep-gr-27
CLASS:PUBLIC
END:VEVENT
BEGIN:VEVENT
DTSTAMP:20260423T053145Z
CREATED:20100128T145537Z
UID:ATEvent-0fc848b8963efefe797517242970f9f4
LAST-MODIFIED:20100128T145617Z
SUMMARY:HEP-GR tut.
DTSTART:20100202T130000Z
DTEND:20100202T143000Z
LOCATION:Lecture Room Euler
CONTACT:Aseem Paranjape
URL:https://diploma-clear.ictp.it/courses/weekly-schedule/lecture-room-euler/hep-gr-tut-12
CLASS:PUBLIC
END:VEVENT
BEGIN:VEVENT
DTSTAMP:20260423T053145Z
CREATED:20091217T131410Z
UID:ATEvent-a866e854707cf7d79780b140a8bb2b7f
LAST-MODIFIED:20091217T131443Z
SUMMARY:HEP-GR
DTSTART:20100203T130000Z
DTEND:20100203T143000Z
LOCATION:Lecture Room Euler
CONTACT:Paolo Creminelli
URL:https://diploma-clear.ictp.it/courses/weekly-schedule/lecture-room-euler/hep-gr-28
CLASS:PUBLIC
END:VEVENT
END:VCALENDAR
