BEGIN:VCALENDAR
PRODID:-//ICTPDiploma//ATRoom//EN
VERSION:2.0
METHOD:PUBLISH
BEGIN:VEVENT
DTSTAMP:20260422T223118Z
CREATED:20140122T155107Z
UID:ATEvent-891b1671ebb34140ac90cef7652e420f
LAST-MODIFIED:20140122T155108Z
SUMMARY:HEP-GR tut.
DTSTART:20140128T080000Z
DTEND:20140128T093000Z
LOCATION:Lecture Room Euler
CONTACT:D. Musso
URL:https://diploma-clear.ictp.it/courses/weekly-schedule/lecture-room-euler/lecture.2014-01-22.8677637489
CLASS:PUBLIC
END:VEVENT
BEGIN:VEVENT
DTSTAMP:20260422T223118Z
CREATED:20131216T141103Z
UID:ATEvent-2e85e3c9a84c435583b44f5c36f01ce5
LAST-MODIFIED:20131216T141103Z
SUMMARY:HEP-QFT
DTSTART:20140128T100000Z
DTEND:20140128T113000Z
LOCATION:Lecture Room Euler
CONTACT:K.S Narain
URL:https://diploma-clear.ictp.it/courses/weekly-schedule/lecture-room-euler/lecture.2013-12-16.0636098816
CLASS:PUBLIC
END:VEVENT
BEGIN:VEVENT
DTSTAMP:20260422T223118Z
CREATED:20131216T141103Z
UID:ATEvent-7312bcf4633045efbce665c25e33a522
LAST-MODIFIED:20131216T141103Z
SUMMARY:HEP-QFT
DTSTART:20140130T100000Z
DTEND:20140130T113000Z
LOCATION:Lecture Room Euler
CONTACT:K.S Narain
URL:https://diploma-clear.ictp.it/courses/weekly-schedule/lecture-room-euler/lecture.2013-12-16.0637333945
CLASS:PUBLIC
END:VEVENT
BEGIN:VEVENT
DTSTAMP:20260422T223118Z
CREATED:20131216T141409Z
UID:ATEvent-ceb7e5f4794c4752aaeaf8752228b4cc
LAST-MODIFIED:20131216T141409Z
SUMMARY:HEP-GR
DTSTART:20140127T130000Z
DTEND:20140127T143000Z
LOCATION:Lecture Room Euler
CONTACT:M. O'Loughlin
URL:https://diploma-clear.ictp.it/courses/weekly-schedule/lecture-room-euler/lecture.2013-12-16.2495614577
CLASS:PUBLIC
END:VEVENT
BEGIN:VEVENT
DTSTAMP:20260422T223118Z
CREATED:20131216T141409Z
UID:ATEvent-9b79857cc5ad4f82ae15f8c93df90280
LAST-MODIFIED:20131216T141409Z
SUMMARY:HEP-GR
DTSTART:20140129T130000Z
DTEND:20140129T143000Z
LOCATION:Lecture Room Euler
CONTACT:M. O'Loughlin
URL:https://diploma-clear.ictp.it/courses/weekly-schedule/lecture-room-euler/lecture.2013-12-16.2496818161
CLASS:PUBLIC
END:VEVENT
BEGIN:VEVENT
DTSTAMP:20260422T223118Z
CREATED:20131216T141409Z
UID:ATEvent-68eff81ab0f446f994b7893fc274b9ef
LAST-MODIFIED:20131216T141409Z
SUMMARY:HEP-GR
DTSTART:20140131T130000Z
DTEND:20140131T143000Z
LOCATION:Lecture Room Euler
CONTACT:M. O'Loughlin
URL:https://diploma-clear.ictp.it/courses/weekly-schedule/lecture-room-euler/lecture.2013-12-16.2498014832
CLASS:PUBLIC
END:VEVENT
END:VCALENDAR
