BEGIN:VCALENDAR
PRODID:-//ICTPDiploma//ATRoom//EN
VERSION:2.0
METHOD:PUBLISH
BEGIN:VEVENT
DTSTAMP:20260421T050100Z
CREATED:20100127T132516Z
UID:ATEvent-8990723beda4d4adfbd3d62a4939094d
LAST-MODIFIED:20100127T132609Z
SUMMARY:MTH - ALT
DTSTART:20100125T080000Z
DTEND:20100125T093000Z
LOCATION:Lecture Room Euler
CONTACT:Dusan Repovs
URL:https://diploma-clear.ictp.it/courses/weekly-schedule/lecture-room-euler/mth-alt
CLASS:PUBLIC
END:VEVENT
BEGIN:VEVENT
DTSTAMP:20260421T050100Z
CREATED:20091217T100710Z
UID:ATEvent-53daf3e0420d7352de189953936c6d18
LAST-MODIFIED:20091217T100741Z
SUMMARY:CMP-STP
DTSTART:20100126T080000Z
DTEND:20100126T093000Z
LOCATION:Lecture Room Euler
CONTACT:Andrea Gambassi
URL:https://diploma-clear.ictp.it/courses/weekly-schedule/lecture-room-euler/cmp-stp
CLASS:PUBLIC
END:VEVENT
BEGIN:VEVENT
DTSTAMP:20260421T050100Z
CREATED:20091217T101250Z
UID:ATEvent-a4259a75c94ee66538a69545cfd59794
LAST-MODIFIED:20091217T101318Z
SUMMARY:CMP-STP
DTSTART:20100128T080000Z
DTEND:20100128T093000Z
LOCATION:Lecture Room Euler
CONTACT:Andrea Gambassi
URL:https://diploma-clear.ictp.it/courses/weekly-schedule/lecture-room-euler/cmp-stp-1
CLASS:PUBLIC
END:VEVENT
BEGIN:VEVENT
DTSTAMP:20260421T050100Z
CREATED:20091217T101442Z
UID:ATEvent-317ce7c8e65f37091533bf0281b2c86a
LAST-MODIFIED:20091217T101531Z
SUMMARY:CMP-STP
DTSTART:20100129T080000Z
DTEND:20100129T093000Z
LOCATION:Lecture Room Euler
CONTACT:Andrea Gambassi
URL:https://diploma-clear.ictp.it/courses/weekly-schedule/lecture-room-euler/cmp-stp-2
CLASS:PUBLIC
END:VEVENT
BEGIN:VEVENT
DTSTAMP:20260421T050100Z
CREATED:20091217T100601Z
UID:ATEvent-7de83456703ef22332c375f8c07bd426
LAST-MODIFIED:20091217T100625Z
SUMMARY:HEP-SM
DTSTART:20100125T100000Z
DTEND:20100125T113000Z
LOCATION:Lecture Room Euler
CONTACT:Goran Senjanovic
URL:https://diploma-clear.ictp.it/courses/weekly-schedule/lecture-room-euler/hep-sm-20
CLASS:PUBLIC
END:VEVENT
BEGIN:VEVENT
DTSTAMP:20260421T050100Z
CREATED:20091217T100749Z
UID:ATEvent-9499d75e7151572e1ed658e6aa5ec465
LAST-MODIFIED:20091217T101054Z
SUMMARY:HEP-QFT
DTSTART:20100126T100000Z
DTEND:20100126T113000Z
LOCATION:Lecture Room Euler
CONTACT:K. S. Narain
URL:https://diploma-clear.ictp.it/courses/weekly-schedule/lecture-room-euler/hep-qft-29
CLASS:PUBLIC
END:VEVENT
BEGIN:VEVENT
DTSTAMP:20260421T050100Z
CREATED:20091217T101136Z
UID:ATEvent-0574a290fbc2da8b4fe5fc175c878629
LAST-MODIFIED:20091217T101202Z
SUMMARY:HEP-SM
DTSTART:20100127T100000Z
DTEND:20100127T113000Z
LOCATION:Lecture Room Euler
CONTACT:Goran Senjanovic
URL:https://diploma-clear.ictp.it/courses/weekly-schedule/lecture-room-euler/hep-sm-23
CLASS:PUBLIC
END:VEVENT
BEGIN:VEVENT
DTSTAMP:20260421T050100Z
CREATED:20091217T101325Z
UID:ATEvent-940b38e35d4771e3233e5451487739dd
LAST-MODIFIED:20091217T101410Z
SUMMARY:HEP-QFT
DTSTART:20100128T100000Z
DTEND:20100128T113000Z
LOCATION:Lecture Room Euler
CONTACT:K. S. Narain
URL:https://diploma-clear.ictp.it/courses/weekly-schedule/lecture-room-euler/hep-qft-30
CLASS:PUBLIC
END:VEVENT
BEGIN:VEVENT
DTSTAMP:20260421T050100Z
CREATED:20091217T102502Z
UID:ATEvent-fb8ebfc24df246d4928cfbbc8f43966d
LAST-MODIFIED:20091217T102554Z
SUMMARY:HEP-SM
DTSTART:20100129T100000Z
DTEND:20100129T113000Z
LOCATION:Lecture Room Euler
CONTACT:Goran Senjanovic
URL:https://diploma-clear.ictp.it/courses/weekly-schedule/lecture-room-euler/hep-sm-24
CLASS:PUBLIC
END:VEVENT
BEGIN:VEVENT
DTSTAMP:20260421T050100Z
CREATED:20091217T100635Z
UID:ATEvent-8029bffacb2ccb32c462502ac1bc1c34
LAST-MODIFIED:20091217T100659Z
SUMMARY:HEP-GR
DTSTART:20100125T130000Z
DTEND:20100125T143000Z
LOCATION:Lecture Room Euler
CONTACT:Paolo Creminelli
URL:https://diploma-clear.ictp.it/courses/weekly-schedule/lecture-room-euler/hep-gr-25
CLASS:PUBLIC
END:VEVENT
BEGIN:VEVENT
DTSTAMP:20260421T050100Z
CREATED:20091217T101217Z
UID:ATEvent-1900fbcda5ab8fc12644d74dd67b4994
LAST-MODIFIED:20100125T084648Z
SUMMARY:HEP-GR
DTSTART:20100129T130000Z
DTEND:20100129T143000Z
LOCATION:Lecture Room Euler
CONTACT:Paolo Creminelli
URL:https://diploma-clear.ictp.it/courses/weekly-schedule/lecture-room-euler/hep-gr-26
CLASS:PUBLIC
END:VEVENT
END:VCALENDAR
