BEGIN:VCALENDAR
PRODID:-//ICTPDiploma//ATRoom//EN
VERSION:2.0
METHOD:PUBLISH
BEGIN:VEVENT
DTSTAMP:20260423T020510Z
CREATED:20131212T141118Z
UID:ATEvent-4a49f49cab504d9ba99416a8d8a51cba
LAST-MODIFIED:20131212T141235Z
SUMMARY:HEP-QED
DTSTART:20140114T080000Z
DTEND:20140114T093000Z
LOCATION:Lecture Room Euler
CONTACT:G. Villadoro
URL:https://diploma-clear.ictp.it/courses/weekly-schedule/lecture-room-euler/hep-qed-100
CLASS:PUBLIC
END:VEVENT
BEGIN:VEVENT
DTSTAMP:20260423T020510Z
CREATED:20131212T141238Z
UID:ATEvent-7959950790df46c4acf4275147661efe
LAST-MODIFIED:20131212T141256Z
SUMMARY:EXAM
DTSTART:20140114T100000Z
DTEND:20140114T113000Z
LOCATION:Lecture Room Euler
CONTACT:G. Villadoro
URL:https://diploma-clear.ictp.it/courses/weekly-schedule/lecture-room-euler/exam-63
CLASS:PUBLIC
END:VEVENT
END:VCALENDAR
