BEGIN:VCALENDAR
PRODID:-//AT Content Types//AT Event//EN
VERSION:1.0
BEGIN:VEVENT
DTSTART:20100405T153000Z
DTEND:20100405T170000Z
DCREATED:20100215T094050Z
UID:ATEvent-08925e2b72132ab808f12f5bd5109bc7
SEQUENCE:0
LAST-MODIFIED:20100215T094127Z
SUMMARY:holiday
LOCATION:Lecture Room Euler
PRIORITY:3
TRANSP:0
END:VEVENT
END:VCALENDAR
