BEGIN:VCALENDAR
PRODID:-//AT Content Types//AT Event//EN
VERSION:2.0
METHOD:PUBLISH
BEGIN:VEVENT
DTSTAMP:20260423T013836Z
CREATED:20090525T133700Z
UID:ATEvent-11188ef519bc55b720f98a7cb3ac8a9c
LAST-MODIFIED:20090525T134238Z
SUMMARY:HOLIDAY
DTSTART:20090602T120000Z
DTEND:20090602T133000Z
LOCATION:Lecture Room Euler
URL:https://diploma-clear.ictp.it/courses/weekly-schedule/lecture-room-euler/holiday-1
CLASS:PUBLIC
END:VEVENT
END:VCALENDAR
