BEGIN:VCALENDAR
PRODID:-//AT Content Types//AT Event//EN
VERSION:1.0
BEGIN:VEVENT
DTSTART:20090421T120000Z
DTEND:20090421T133000Z
DCREATED:20090416T151056Z
UID:ATEvent-97c0dca8f11f5753cd3044fac62b7e17
SEQUENCE:0
LAST-MODIFIED:20090416T151152Z
SUMMARY:HEP-SM tut.
LOCATION:Lecture Room Euler
PRIORITY:3
TRANSP:0
END:VEVENT
END:VCALENDAR
