BEGIN:VCALENDAR
PRODID:-//AT Content Types//AT Event//EN
VERSION:1.0
BEGIN:VEVENT
DTSTART:20090407T140000Z
DTEND:20090407T153000Z
DCREATED:20090414T133643Z
UID:ATEvent-1f3ccfd0576ee737e2f3d43852f49d7d
SEQUENCE:0
LAST-MODIFIED:20090414T133737Z
SUMMARY:HEP-SM tut.
LOCATION:Lecture Room Euler
PRIORITY:3
TRANSP:0
END:VEVENT
END:VCALENDAR
