BEGIN:VCALENDAR
PRODID:-//AT Content Types//AT Event//EN
VERSION:1.0
BEGIN:VEVENT
DTSTART:20090414T140000Z
DTEND:20090414T153000Z
DCREATED:20090414T133442Z
UID:ATEvent-a5b8539d0f8c7f3c97cdbf7cf3cf3386
SEQUENCE:0
LAST-MODIFIED:20090414T133550Z
SUMMARY:HEP-SM tut.
LOCATION:Lecture Room Euler
PRIORITY:3
TRANSP:0
END:VEVENT
END:VCALENDAR
