BEGIN:VCALENDAR
PRODID:-//AT Content Types//AT Event//EN
VERSION:2.0
METHOD:PUBLISH
BEGIN:VEVENT
DTSTAMP:20260420T172136Z
CREATED:20170322T143621Z
UID:ATEvent-bd90e104d4b741838a736d6aa7c539b8
LAST-MODIFIED:20170322T143658Z
SUMMARY:HEP-SM tut.
DTSTART:20170509T070000Z
DTEND:20170509T083000Z
LOCATION:Lecture Room Euler
CONTACT:E. Hardy
URL:https://diploma-clear.ictp.it/courses/weekly-schedule/lecture-room-euler/hep-sm-tut-65
CLASS:PUBLIC
END:VEVENT
END:VCALENDAR
