BEGIN:VCALENDAR
PRODID:-//AT Content Types//AT Event//EN
VERSION:1.0
BEGIN:VEVENT
DTSTART:20090310T150000Z
DTEND:20090310T163000Z
DCREATED:20090218T092932Z
UID:ATEvent-831205f6949feb317caf1c2c93c854de
SEQUENCE:0
LAST-MODIFIED:20090218T093017Z
SUMMARY:HEP-SM tut.
LOCATION:Lecture Room Euler
PRIORITY:3
TRANSP:0
END:VEVENT
END:VCALENDAR
