BEGIN:VCALENDAR
PRODID:-//AT Content Types//AT Event//EN
VERSION:1.0
BEGIN:VEVENT
DTSTART:20110330T140000Z
DTEND:20110330T153000Z
DCREATED:20110214T131216Z
UID:ATEvent-7ed1bf10080e7641698e2b69d1ae6689
SEQUENCE:0
LAST-MODIFIED:20110214T131240Z
SUMMARY:HEP-SM tut.
LOCATION:Lecture Room Euler
PRIORITY:3
TRANSP:0
END:VEVENT
END:VCALENDAR
