BEGIN:VCALENDAR
PRODID:-//AT Content Types//AT Event//EN
VERSION:1.0
BEGIN:VEVENT
DTSTART:20100308T150000Z
DTEND:20100308T163000Z
DCREATED:20100202T100237Z
UID:ATEvent-ab9530c85dd21e922b0af8fc216cd570
SEQUENCE:0
LAST-MODIFIED:20100202T100256Z
SUMMARY:HEP-SM tut.
LOCATION:Lecture Room Euler
PRIORITY:3
TRANSP:0
END:VEVENT
END:VCALENDAR
