BEGIN:VCALENDAR
PRODID:-//AT Content Types//AT Event//EN
VERSION:2.0
METHOD:PUBLISH
BEGIN:VEVENT
DTSTAMP:20260421T020032Z
CREATED:20220525T093923Z
UID:ATEvent-c6278632cb344d33aa219e9835eff72b
LAST-MODIFIED:20220525T094002Z
SUMMARY:HEP-SM II tut.
DTSTART:20220609T120000Z
DTEND:20220609T133000Z
LOCATION:Lecture Room Euler
CONTACT:J. Ingoldby
URL:https://diploma-clear.ictp.it/courses/weekly-schedule/lecture-room-euler/hep-sm-ii-tut-3
CLASS:PUBLIC
END:VEVENT
END:VCALENDAR
