BEGIN:VCALENDAR
PRODID:-//AT Content Types//AT Event//EN
VERSION:2.0
METHOD:PUBLISH
BEGIN:VEVENT
DTSTAMP:20260423T020524Z
CREATED:20221114T111217Z
UID:ATEvent-54e4df8ef0744daea70e62c1f0d11603
LAST-MODIFIED:20221114T111241Z
SUMMARY:HEP-SM II
DTSTART:20230512T070000Z
DTEND:20230512T083000Z
LOCATION:Lecture Room Euler
CONTACT:J. Elias Miró
URL:https://diploma-clear.ictp.it/courses/weekly-schedule/lecture-room-euler/hep-sm-ii-5
CLASS:PUBLIC
END:VEVENT
END:VCALENDAR
