BEGIN:VCALENDAR
PRODID:-//AT Content Types//AT Event//EN
VERSION:2.0
METHOD:PUBLISH
BEGIN:VEVENT
DTSTAMP:20260422T161742Z
CREATED:20150226T155750Z
UID:ATEvent-fba1a9c7d9424eb18794daacd9bedd59
LAST-MODIFIED:20150226T155829Z
SUMMARY:HEP-SM
DTSTART:20150302T100000Z
DTEND:20150302T113000Z
LOCATION:Lecture Room Euler
CONTACT:G. Senjanovic
URL:https://diploma-clear.ictp.it/courses/weekly-schedule/lecture-room-euler/hep-sm-91
CLASS:PUBLIC
END:VEVENT
END:VCALENDAR
