BEGIN:VCALENDAR
PRODID:-//AT Content Types//AT Event//EN
VERSION:1.0
BEGIN:VEVENT
DTSTART:20090224T150000Z
DTEND:20090224T163000Z
DCREATED:20090108T140503Z
UID:ATEvent-19140eea14aa5fd2a3714e119d5fc9c9
SEQUENCE:0
LAST-MODIFIED:20090225T084543Z
SUMMARY:HEP-SM
LOCATION:Lecture Room Euler
PRIORITY:3
TRANSP:0
END:VEVENT
END:VCALENDAR
